BEGIN:VCALENDAR
VERSION:2.0
PRODID:-//Hamburg, PA - ECPv6.15.20//NONSGML v1.0//EN
CALSCALE:GREGORIAN
METHOD:PUBLISH
X-WR-CALNAME:Hamburg, PA
X-ORIGINAL-URL:https://hamburgpa.org
X-WR-CALDESC:Events for Hamburg, PA
REFRESH-INTERVAL;VALUE=DURATION:PT1H
X-Robots-Tag:noindex
X-PUBLISHED-TTL:PT1H
BEGIN:VTIMEZONE
TZID:America/New_York
BEGIN:DAYLIGHT
TZOFFSETFROM:-0500
TZOFFSETTO:-0400
TZNAME:EDT
DTSTART:20240310T070000
END:DAYLIGHT
BEGIN:STANDARD
TZOFFSETFROM:-0400
TZOFFSETTO:-0500
TZNAME:EST
DTSTART:20241103T060000
END:STANDARD
BEGIN:DAYLIGHT
TZOFFSETFROM:-0500
TZOFFSETTO:-0400
TZNAME:EDT
DTSTART:20250309T070000
END:DAYLIGHT
BEGIN:STANDARD
TZOFFSETFROM:-0400
TZOFFSETTO:-0500
TZNAME:EST
DTSTART:20251102T060000
END:STANDARD
BEGIN:DAYLIGHT
TZOFFSETFROM:-0500
TZOFFSETTO:-0400
TZNAME:EDT
DTSTART:20260308T070000
END:DAYLIGHT
BEGIN:STANDARD
TZOFFSETFROM:-0400
TZOFFSETTO:-0500
TZNAME:EST
DTSTART:20261101T060000
END:STANDARD
END:VTIMEZONE
BEGIN:VEVENT
DTSTART;TZID=America/New_York:20251030T170000
DTEND;TZID=America/New_York:20251030T190000
DTSTAMP:20260421T111010
CREATED:20251029T152809Z
LAST-MODIFIED:20251029T164831Z
UID:15491-1761843600-1761850800@hamburgpa.org
SUMMARY:Kelly Toyota's First Annual Trunk or Treat
DESCRIPTION:Dress up\, Drive up and load up your car with candy
URL:https://hamburgpa.org/event/kelly-toyotas-first-annual-trunk-or-treat/
LOCATION:Kelly Toyota\, 41 Industrial Dr\, Hamburg\, PA\, 19526\, United States
END:VEVENT
BEGIN:VEVENT
DTSTART;TZID=America/New_York:20251030T183000
DTEND;TZID=America/New_York:20251030T203000
DTSTAMP:20260421T111010
CREATED:20251007T130536Z
LAST-MODIFIED:20251007T202202Z
UID:15432-1761849000-1761856200@hamburgpa.org
SUMMARY:Illuminate Free Block Party!
DESCRIPTION:Free Food\nGames\nInflatables\nMusic\n\nFun for the Whole Family! \n 
URL:https://hamburgpa.org/event/illuminate-free-block-party/
LOCATION:Illuminate\, 4th & Pine Street\, Hamburg\, PA\, 19526\, United States
END:VEVENT
END:VCALENDAR