BEGIN:VCALENDAR
VERSION:2.0
PRODID:-//Hamburg, PA - ECPv6.15.20//NONSGML v1.0//EN
CALSCALE:GREGORIAN
METHOD:PUBLISH
X-ORIGINAL-URL:https://hamburgpa.org
X-WR-CALDESC:Events for Hamburg, PA
REFRESH-INTERVAL;VALUE=DURATION:PT1H
X-Robots-Tag:noindex
X-PUBLISHED-TTL:PT1H
BEGIN:VTIMEZONE
TZID:America/New_York
BEGIN:DAYLIGHT
TZOFFSETFROM:-0500
TZOFFSETTO:-0400
TZNAME:EDT
DTSTART:20240310T070000
END:DAYLIGHT
BEGIN:STANDARD
TZOFFSETFROM:-0400
TZOFFSETTO:-0500
TZNAME:EST
DTSTART:20241103T060000
END:STANDARD
BEGIN:DAYLIGHT
TZOFFSETFROM:-0500
TZOFFSETTO:-0400
TZNAME:EDT
DTSTART:20250309T070000
END:DAYLIGHT
BEGIN:STANDARD
TZOFFSETFROM:-0400
TZOFFSETTO:-0500
TZNAME:EST
DTSTART:20251102T060000
END:STANDARD
BEGIN:DAYLIGHT
TZOFFSETFROM:-0500
TZOFFSETTO:-0400
TZNAME:EDT
DTSTART:20260308T070000
END:DAYLIGHT
BEGIN:STANDARD
TZOFFSETFROM:-0400
TZOFFSETTO:-0500
TZNAME:EST
DTSTART:20261101T060000
END:STANDARD
END:VTIMEZONE
BEGIN:VEVENT
DTSTART;TZID=America/New_York:20251121T100000
DTEND;TZID=America/New_York:20251224T180000
DTSTAMP:20260421T092840
CREATED:20251201T172644Z
LAST-MODIFIED:20251201T190400Z
UID:15666-1763719200-1766599200@hamburgpa.org
SUMMARY:REGISTER TO RING- VOLUNTEER BELL RINGERS NEEDED
DESCRIPTION:WANTED: Individuals\, Businesses\, Clubs & Organizations\nThe Salvation Army Hamburg Service Center needs bell ringers for the 2025 Red Kettle Christmas Season\nTimeslots: Monday through Saturday- 10:00 AM to 6:00 PM\nShifts: Sign-ups are in 2 hours shifts\n\n  \nBell Ringing Locations: \n\nHamburg- Redner’s Market\, Walmart and Cabela’s \nLeesport- Redner’s Market\nTemple- Sam’s Club\nBernville- Boyer’s Market\n\nHow to Volunteer: \n\nCall or Text: Steve Clark\, Red Kettle Coordinator @ 484-663-4797\nRegister at: timetosignup/Hamburgredkettle \nEmail: redkettlehamburg@gmail.com\n\n \n 
URL:https://hamburgpa.org/event/register-to-ring-volunteer-bell-ringers-needed/
LOCATION:PA
END:VEVENT
BEGIN:VEVENT
DTSTART;TZID=America/New_York:20251205T160000
DTEND;TZID=America/New_York:20251205T180000
DTSTAMP:20260421T092840
CREATED:20251126T143821Z
LAST-MODIFIED:20251126T143821Z
UID:15654-1764950400-1764957600@hamburgpa.org
SUMMARY:15th Annual Shoemakersville Christmas Tree Lighting
DESCRIPTION:Enjoy complimentary light food & drinks\nEnter for a chance to win raffles\n\n  \n\n4:00 – 4:30 PM (Hamburg High School Ascending Chamber Strings\n4:30 PM (Santa & Mrs. Claus arrive by fire truck thanks to Shoemakersville Fire Company. Enjoy complimentary photos with Santa & Mrs. Claus until 6 PM.\n4:30 – 5:00 PM (Hamburg Middle School Soaring Strings)\n5:00 – 5:30 PM (Viola Holiday Tunes by Angie Dowd)\n5:30 – 6:00 PM (Blue Mountain Heritage Chorus)\n5:45 PM (Tree Lighting Ceremony)\n\n  \n \n 
URL:https://hamburgpa.org/event/15th-annual-shoemakersville-christmas-tree-lighting/
LOCATION:455 Main Street in Shoemakersville
END:VEVENT
END:VCALENDAR