BEGIN:VCALENDAR
VERSION:2.0
PRODID:-//Hamburg, PA - ECPv6.15.20//NONSGML v1.0//EN
CALSCALE:GREGORIAN
METHOD:PUBLISH
X-WR-CALNAME:Hamburg, PA
X-ORIGINAL-URL:https://hamburgpa.org
X-WR-CALDESC:Events for Hamburg, PA
REFRESH-INTERVAL;VALUE=DURATION:PT1H
X-Robots-Tag:noindex
X-PUBLISHED-TTL:PT1H
BEGIN:VTIMEZONE
TZID:America/New_York
BEGIN:DAYLIGHT
TZOFFSETFROM:-0500
TZOFFSETTO:-0400
TZNAME:EDT
DTSTART:20240310T070000
END:DAYLIGHT
BEGIN:STANDARD
TZOFFSETFROM:-0400
TZOFFSETTO:-0500
TZNAME:EST
DTSTART:20241103T060000
END:STANDARD
BEGIN:DAYLIGHT
TZOFFSETFROM:-0500
TZOFFSETTO:-0400
TZNAME:EDT
DTSTART:20250309T070000
END:DAYLIGHT
BEGIN:STANDARD
TZOFFSETFROM:-0400
TZOFFSETTO:-0500
TZNAME:EST
DTSTART:20251102T060000
END:STANDARD
BEGIN:DAYLIGHT
TZOFFSETFROM:-0500
TZOFFSETTO:-0400
TZNAME:EDT
DTSTART:20260308T070000
END:DAYLIGHT
BEGIN:STANDARD
TZOFFSETFROM:-0400
TZOFFSETTO:-0500
TZNAME:EST
DTSTART:20261101T060000
END:STANDARD
BEGIN:DAYLIGHT
TZOFFSETFROM:-0500
TZOFFSETTO:-0400
TZNAME:EDT
DTSTART:20270314T070000
END:DAYLIGHT
BEGIN:STANDARD
TZOFFSETFROM:-0400
TZOFFSETTO:-0500
TZNAME:EST
DTSTART:20271107T060000
END:STANDARD
END:VTIMEZONE
BEGIN:VEVENT
DTSTART;VALUE=DATE:20251209
DTEND;VALUE=DATE:20270101
DTSTAMP:20260421T071955
CREATED:20251209T211900Z
LAST-MODIFIED:20251209T213054Z
UID:15689-1765238400-1798761599@hamburgpa.org
SUMMARY:Defensive Skills Academy Courses Available
DESCRIPTION:Courses Available: \n\nAdult/ Child/ Infant CPR with AED\nFirst Aid Course\nBLS Course\nChild and Babysitting Course- CABS\nPersonal Defense Course\nSituational Awareness Course\nHouse of Worship Safety Team Training Course \n\nVisit website at www.defensiveskillsacademy.com for other courses available to you. 
URL:https://hamburgpa.org/event/defensive-skills-academy-courses-available/
LOCATION:PA
END:VEVENT
BEGIN:VEVENT
DTSTART;VALUE=DATE:20251223
DTEND;VALUE=DATE:20251231
DTSTAMP:20260421T071955
CREATED:20251223T153851Z
LAST-MODIFIED:20251223T153851Z
UID:15762-1766448000-1767139199@hamburgpa.org
SUMMARY:Christmas Break DIY Bar
DESCRIPTION:*Please check the different dates and times!
URL:https://hamburgpa.org/event/christmas-break-diy-bar/
LOCATION:The Art and Craft Gallery\, 320 State Street\, Hamburg\, PA\, 19526\, United States
END:VEVENT
END:VCALENDAR