BEGIN:VCALENDAR
VERSION:2.0
PRODID:-//Hamburg, PA - ECPv6.15.20//NONSGML v1.0//EN
CALSCALE:GREGORIAN
METHOD:PUBLISH
X-ORIGINAL-URL:https://hamburgpa.org
X-WR-CALDESC:Events for Hamburg, PA
REFRESH-INTERVAL;VALUE=DURATION:PT1H
X-Robots-Tag:noindex
X-PUBLISHED-TTL:PT1H
BEGIN:VTIMEZONE
TZID:America/New_York
BEGIN:DAYLIGHT
TZOFFSETFROM:-0500
TZOFFSETTO:-0400
TZNAME:EDT
DTSTART:20240310T070000
END:DAYLIGHT
BEGIN:STANDARD
TZOFFSETFROM:-0400
TZOFFSETTO:-0500
TZNAME:EST
DTSTART:20241103T060000
END:STANDARD
BEGIN:DAYLIGHT
TZOFFSETFROM:-0500
TZOFFSETTO:-0400
TZNAME:EDT
DTSTART:20250309T070000
END:DAYLIGHT
BEGIN:STANDARD
TZOFFSETFROM:-0400
TZOFFSETTO:-0500
TZNAME:EST
DTSTART:20251102T060000
END:STANDARD
BEGIN:DAYLIGHT
TZOFFSETFROM:-0500
TZOFFSETTO:-0400
TZNAME:EDT
DTSTART:20260308T070000
END:DAYLIGHT
BEGIN:STANDARD
TZOFFSETFROM:-0400
TZOFFSETTO:-0500
TZNAME:EST
DTSTART:20261101T060000
END:STANDARD
BEGIN:DAYLIGHT
TZOFFSETFROM:-0500
TZOFFSETTO:-0400
TZNAME:EDT
DTSTART:20270314T070000
END:DAYLIGHT
BEGIN:STANDARD
TZOFFSETFROM:-0400
TZOFFSETTO:-0500
TZNAME:EST
DTSTART:20271107T060000
END:STANDARD
END:VTIMEZONE
BEGIN:VEVENT
DTSTART;VALUE=DATE:20251209
DTEND;VALUE=DATE:20270101
DTSTAMP:20260420T073709
CREATED:20251209T211900Z
LAST-MODIFIED:20251209T213054Z
UID:15689-1765238400-1798761599@hamburgpa.org
SUMMARY:Defensive Skills Academy Courses Available
DESCRIPTION:Courses Available: \n\nAdult/ Child/ Infant CPR with AED\nFirst Aid Course\nBLS Course\nChild and Babysitting Course- CABS\nPersonal Defense Course\nSituational Awareness Course\nHouse of Worship Safety Team Training Course \n\nVisit website at www.defensiveskillsacademy.com for other courses available to you. 
URL:https://hamburgpa.org/event/defensive-skills-academy-courses-available/
LOCATION:PA
END:VEVENT
BEGIN:VEVENT
DTSTART;TZID=America/New_York:20260103T200000
DTEND;TZID=America/New_York:20261231T220000
DTSTAMP:20260420T073709
CREATED:20251231T152909Z
LAST-MODIFIED:20251231T152909Z
UID:15790-1767470400-1798754400@hamburgpa.org
SUMMARY:Bar Bites Nights at Copperz Brewing Co
DESCRIPTION:*Every Friday and Saturday! \n\n\n\n\n\n\n\n\n\n\n\n\n\n\nStarting Saturday\, January 3rd\, join us for Bar Bites Nights every Friday & Saturday from 8–10pm! Enjoy late-night savings on your favorite shareables\, including basket apps\, our famous soft pretzel\, and loaded nachos. Perfect for post-dinner cravings\, late-night hangs\, or one more round with friends. Available when you buy any drink and dine in only—come snack\, sip\, and save!
URL:https://hamburgpa.org/event/bar-bites-nights-at-copperz-brewing-co/
LOCATION:Copperz Brewing Co\, 798 S Fourth St\, Hamburg\, PA\, 19526\, United States
END:VEVENT
BEGIN:VEVENT
DTSTART;VALUE=DATE:20260303
DTEND;VALUE=DATE:20260329
DTSTAMP:20260420T073709
CREATED:20260305T195919Z
LAST-MODIFIED:20260305T203450Z
UID:16044-1772496000-1774742399@hamburgpa.org
SUMMARY:The Salvation Army Hamburg Family Store & Donation Center March Events
DESCRIPTION:*Check each date for events and times!
URL:https://hamburgpa.org/event/the-salvation-army-hamburg-family-store-donation-center-march-events/
LOCATION:PA
END:VEVENT
BEGIN:VEVENT
DTSTART;TZID=America/New_York:20260317T110000
DTEND;TZID=America/New_York:20260321T180000
DTSTAMP:20260420T073709
CREATED:20260306T185958Z
LAST-MODIFIED:20260306T185958Z
UID:16059-1773745200-1774116000@hamburgpa.org
SUMMARY:Spring Equinox Beeswax Candle Pour
DESCRIPTION:
URL:https://hamburgpa.org/event/spring-equinox-beeswax-candle-pour/
LOCATION:Know; Body Botanicals & Apothecary\, 41 S Fourth St\, Hamburg\, PA\, 19526\, United States
END:VEVENT
BEGIN:VEVENT
DTSTART;VALUE=DATE:20260320
DTEND;VALUE=DATE:20260322
DTSTAMP:20260420T073709
CREATED:20260307T153246Z
LAST-MODIFIED:20260307T153439Z
UID:16067-1773964800-1774137599@hamburgpa.org
SUMMARY:Soup Sale
DESCRIPTION:*Deadline to place orders- Saturday March 14th \n\nCheck the flyer for different pickup dates and times
URL:https://hamburgpa.org/event/soup-sale/
LOCATION:Salem-Berne United Methodist Church\, 292 Salem Church Road\, Hamburg\, PA\, 19526\, United States
END:VEVENT
BEGIN:VEVENT
DTSTART;TZID=America/New_York:20260321T120000
DTEND;TZID=America/New_York:20260321T230000
DTSTAMP:20260420T073709
CREATED:20260311T132633Z
LAST-MODIFIED:20260311T132633Z
UID:16095-1774094400-1774134000@hamburgpa.org
SUMMARY:CIGAR BASH
DESCRIPTION:
URL:https://hamburgpa.org/event/cigar-bash/
LOCATION:Cigars International\, 1635 Mountain Rd\, Hamburg\, PA\, 19526\, United States
END:VEVENT
BEGIN:VEVENT
DTSTART;TZID=America/New_York:20260321T130000
DTEND;TZID=America/New_York:20260321T140000
DTSTAMP:20260420T073709
CREATED:20260122T161303Z
LAST-MODIFIED:20260122T161303Z
UID:15819-1774098000-1774101600@hamburgpa.org
SUMMARY:Bob Ross Style- Flower Painting
DESCRIPTION:
URL:https://hamburgpa.org/event/bob-ross-style-flower-painting/
LOCATION:Lucky Leprechaun\, 337 State St\, Hamburg\, PA\, 19526\, United States
END:VEVENT
BEGIN:VEVENT
DTSTART;TZID=America/New_York:20260321T140000
DTEND;TZID=America/New_York:20260321T190000
DTSTAMP:20260420T073709
CREATED:20260303T173536Z
LAST-MODIFIED:20260303T173536Z
UID:16025-1774101600-1774119600@hamburgpa.org
SUMMARY:Art On The Record Open House
DESCRIPTION:
URL:https://hamburgpa.org/event/art-on-the-record-open-house-2/
LOCATION:Everlong Records\, 805 State Street\, Hamburg\, PA\, 19526\, United States
END:VEVENT
BEGIN:VEVENT
DTSTART;TZID=America/New_York:20260321T160000
DTEND;TZID=America/New_York:20260321T190000
DTSTAMP:20260420T073709
CREATED:20260217T183023Z
LAST-MODIFIED:20260217T183023Z
UID:15924-1774108800-1774119600@hamburgpa.org
SUMMARY:All-You-Can-Eat Homemade Chicken Pot Pie Dinner
DESCRIPTION:
URL:https://hamburgpa.org/event/all-you-can-eat-homemade-chicken-pot-pie-dinner/
LOCATION:Hamburg Area High School\, 701 Windsor Street\, Hamburg\, PA\, 19526\, United States
END:VEVENT
END:VCALENDAR