BEGIN:VCALENDAR
VERSION:2.0
PRODID:-//Hamburg, PA - ECPv6.15.20//NONSGML v1.0//EN
CALSCALE:GREGORIAN
METHOD:PUBLISH
X-ORIGINAL-URL:https://hamburgpa.org
X-WR-CALDESC:Events for Hamburg, PA
REFRESH-INTERVAL;VALUE=DURATION:PT1H
X-Robots-Tag:noindex
X-PUBLISHED-TTL:PT1H
BEGIN:VTIMEZONE
TZID:America/New_York
BEGIN:DAYLIGHT
TZOFFSETFROM:-0500
TZOFFSETTO:-0400
TZNAME:EDT
DTSTART:20240310T070000
END:DAYLIGHT
BEGIN:STANDARD
TZOFFSETFROM:-0400
TZOFFSETTO:-0500
TZNAME:EST
DTSTART:20241103T060000
END:STANDARD
BEGIN:DAYLIGHT
TZOFFSETFROM:-0500
TZOFFSETTO:-0400
TZNAME:EDT
DTSTART:20250309T070000
END:DAYLIGHT
BEGIN:STANDARD
TZOFFSETFROM:-0400
TZOFFSETTO:-0500
TZNAME:EST
DTSTART:20251102T060000
END:STANDARD
BEGIN:DAYLIGHT
TZOFFSETFROM:-0500
TZOFFSETTO:-0400
TZNAME:EDT
DTSTART:20260308T070000
END:DAYLIGHT
BEGIN:STANDARD
TZOFFSETFROM:-0400
TZOFFSETTO:-0500
TZNAME:EST
DTSTART:20261101T060000
END:STANDARD
BEGIN:DAYLIGHT
TZOFFSETFROM:-0500
TZOFFSETTO:-0400
TZNAME:EDT
DTSTART:20270314T070000
END:DAYLIGHT
BEGIN:STANDARD
TZOFFSETFROM:-0400
TZOFFSETTO:-0500
TZNAME:EST
DTSTART:20271107T060000
END:STANDARD
END:VTIMEZONE
BEGIN:VEVENT
DTSTART;VALUE=DATE:20251209
DTEND;VALUE=DATE:20270101
DTSTAMP:20260420T073721
CREATED:20251209T211900Z
LAST-MODIFIED:20251209T213054Z
UID:15689-1765238400-1798761599@hamburgpa.org
SUMMARY:Defensive Skills Academy Courses Available
DESCRIPTION:Courses Available: \n\nAdult/ Child/ Infant CPR with AED\nFirst Aid Course\nBLS Course\nChild and Babysitting Course- CABS\nPersonal Defense Course\nSituational Awareness Course\nHouse of Worship Safety Team Training Course \n\nVisit website at www.defensiveskillsacademy.com for other courses available to you. 
URL:https://hamburgpa.org/event/defensive-skills-academy-courses-available/
LOCATION:PA
END:VEVENT
BEGIN:VEVENT
DTSTART;TZID=America/New_York:20260103T200000
DTEND;TZID=America/New_York:20261231T220000
DTSTAMP:20260420T073721
CREATED:20251231T152909Z
LAST-MODIFIED:20251231T152909Z
UID:15790-1767470400-1798754400@hamburgpa.org
SUMMARY:Bar Bites Nights at Copperz Brewing Co
DESCRIPTION:*Every Friday and Saturday! \n\n\n\n\n\n\n\n\n\n\n\n\n\n\nStarting Saturday\, January 3rd\, join us for Bar Bites Nights every Friday & Saturday from 8–10pm! Enjoy late-night savings on your favorite shareables\, including basket apps\, our famous soft pretzel\, and loaded nachos. Perfect for post-dinner cravings\, late-night hangs\, or one more round with friends. Available when you buy any drink and dine in only—come snack\, sip\, and save!
URL:https://hamburgpa.org/event/bar-bites-nights-at-copperz-brewing-co/
LOCATION:Copperz Brewing Co\, 798 S Fourth St\, Hamburg\, PA\, 19526\, United States
END:VEVENT
BEGIN:VEVENT
DTSTART;VALUE=DATE:20260303
DTEND;VALUE=DATE:20260329
DTSTAMP:20260420T073721
CREATED:20260305T195919Z
LAST-MODIFIED:20260305T203450Z
UID:16044-1772496000-1774742399@hamburgpa.org
SUMMARY:The Salvation Army Hamburg Family Store & Donation Center March Events
DESCRIPTION:*Check each date for events and times!
URL:https://hamburgpa.org/event/the-salvation-army-hamburg-family-store-donation-center-march-events/
LOCATION:PA
END:VEVENT
BEGIN:VEVENT
DTSTART;TZID=America/New_York:20260328T090000
DTEND;TZID=America/New_York:20260328T100000
DTSTAMP:20260420T073721
CREATED:20260219T171805Z
LAST-MODIFIED:20260219T171805Z
UID:15994-1774688400-1774692000@hamburgpa.org
SUMMARY:St. John's Easter Egg Hunt
DESCRIPTION:
URL:https://hamburgpa.org/event/st-johns-easter-egg-hunt/
LOCATION:Edenburg Park\, Hamburg\, PA\, 19526\, United States
END:VEVENT
BEGIN:VEVENT
DTSTART;TZID=America/New_York:20260328T090000
DTEND;TZID=America/New_York:20260328T140000
DTSTAMP:20260420T073721
CREATED:20260307T160619Z
LAST-MODIFIED:20260307T160619Z
UID:16072-1774688400-1774706400@hamburgpa.org
SUMMARY:Community Blood Drive
DESCRIPTION:
URL:https://hamburgpa.org/event/community-blood-drive/
LOCATION:Social Hall\, 52 Zion Church Road\, Shoemakersville\, PA\, 19555\, United States
END:VEVENT
BEGIN:VEVENT
DTSTART;TZID=America/New_York:20260328T120000
DTEND;TZID=America/New_York:20260328T140000
DTSTAMP:20260420T073721
CREATED:20260305T210731Z
LAST-MODIFIED:20260305T210731Z
UID:16050-1774699200-1774706400@hamburgpa.org
SUMMARY:Strength in Bloom
DESCRIPTION:
URL:https://hamburgpa.org/event/strength-in-bloom/
LOCATION:Art & Craft Gallery of Hamburg\, 320 State Street\, Hamburg\, PA\, 19526\, United States
END:VEVENT
BEGIN:VEVENT
DTSTART;TZID=America/New_York:20260328T130000
DTEND;TZID=America/New_York:20260328T150000
DTSTAMP:20260420T073721
CREATED:20260219T170502Z
LAST-MODIFIED:20260219T170502Z
UID:15984-1774702800-1774710000@hamburgpa.org
SUMMARY:Easter Themed Sugar Cookie Decorating Class
DESCRIPTION:
URL:https://hamburgpa.org/event/easter-themed-sugar-cookie-decorating-class/
LOCATION:Lucky Leprechaun\, 337 State St\, Hamburg\, PA\, 19526\, United States
END:VEVENT
END:VCALENDAR