BEGIN:VCALENDAR
VERSION:2.0
PRODID:-//Hamburg, PA - ECPv6.15.20//NONSGML v1.0//EN
CALSCALE:GREGORIAN
METHOD:PUBLISH
X-ORIGINAL-URL:https://hamburgpa.org
X-WR-CALDESC:Events for Hamburg, PA
REFRESH-INTERVAL;VALUE=DURATION:PT1H
X-Robots-Tag:noindex
X-PUBLISHED-TTL:PT1H
BEGIN:VTIMEZONE
TZID:America/New_York
BEGIN:DAYLIGHT
TZOFFSETFROM:-0500
TZOFFSETTO:-0400
TZNAME:EDT
DTSTART:20240310T070000
END:DAYLIGHT
BEGIN:STANDARD
TZOFFSETFROM:-0400
TZOFFSETTO:-0500
TZNAME:EST
DTSTART:20241103T060000
END:STANDARD
BEGIN:DAYLIGHT
TZOFFSETFROM:-0500
TZOFFSETTO:-0400
TZNAME:EDT
DTSTART:20250309T070000
END:DAYLIGHT
BEGIN:STANDARD
TZOFFSETFROM:-0400
TZOFFSETTO:-0500
TZNAME:EST
DTSTART:20251102T060000
END:STANDARD
BEGIN:DAYLIGHT
TZOFFSETFROM:-0500
TZOFFSETTO:-0400
TZNAME:EDT
DTSTART:20260308T070000
END:DAYLIGHT
BEGIN:STANDARD
TZOFFSETFROM:-0400
TZOFFSETTO:-0500
TZNAME:EST
DTSTART:20261101T060000
END:STANDARD
BEGIN:DAYLIGHT
TZOFFSETFROM:-0500
TZOFFSETTO:-0400
TZNAME:EDT
DTSTART:20270314T070000
END:DAYLIGHT
BEGIN:STANDARD
TZOFFSETFROM:-0400
TZOFFSETTO:-0500
TZNAME:EST
DTSTART:20271107T060000
END:STANDARD
END:VTIMEZONE
BEGIN:VEVENT
DTSTART;VALUE=DATE:20251209
DTEND;VALUE=DATE:20270101
DTSTAMP:20260420T091943
CREATED:20251209T211900Z
LAST-MODIFIED:20251209T213054Z
UID:15689-1765238400-1798761599@hamburgpa.org
SUMMARY:Defensive Skills Academy Courses Available
DESCRIPTION:Courses Available: \n\nAdult/ Child/ Infant CPR with AED\nFirst Aid Course\nBLS Course\nChild and Babysitting Course- CABS\nPersonal Defense Course\nSituational Awareness Course\nHouse of Worship Safety Team Training Course \n\nVisit website at www.defensiveskillsacademy.com for other courses available to you. 
URL:https://hamburgpa.org/event/defensive-skills-academy-courses-available/
LOCATION:PA
END:VEVENT
BEGIN:VEVENT
DTSTART;TZID=America/New_York:20260103T200000
DTEND;TZID=America/New_York:20261231T220000
DTSTAMP:20260420T091943
CREATED:20251231T152909Z
LAST-MODIFIED:20251231T152909Z
UID:15790-1767470400-1798754400@hamburgpa.org
SUMMARY:Bar Bites Nights at Copperz Brewing Co
DESCRIPTION:*Every Friday and Saturday! \n\n\n\n\n\n\n\n\n\n\n\n\n\n\nStarting Saturday\, January 3rd\, join us for Bar Bites Nights every Friday & Saturday from 8–10pm! Enjoy late-night savings on your favorite shareables\, including basket apps\, our famous soft pretzel\, and loaded nachos. Perfect for post-dinner cravings\, late-night hangs\, or one more round with friends. Available when you buy any drink and dine in only—come snack\, sip\, and save!
URL:https://hamburgpa.org/event/bar-bites-nights-at-copperz-brewing-co/
LOCATION:Copperz Brewing Co\, 798 S Fourth St\, Hamburg\, PA\, 19526\, United States
END:VEVENT
BEGIN:VEVENT
DTSTART;VALUE=DATE:20260303
DTEND;VALUE=DATE:20260329
DTSTAMP:20260420T091943
CREATED:20260305T195919Z
LAST-MODIFIED:20260305T203450Z
UID:16044-1772496000-1774742399@hamburgpa.org
SUMMARY:The Salvation Army Hamburg Family Store & Donation Center March Events
DESCRIPTION:*Check each date for events and times!
URL:https://hamburgpa.org/event/the-salvation-army-hamburg-family-store-donation-center-march-events/
LOCATION:PA
END:VEVENT
BEGIN:VEVENT
DTSTART;TZID=America/New_York:20260324T190000
DTEND;TZID=America/New_York:20260324T210000
DTSTAMP:20260420T091943
CREATED:20260311T165322Z
LAST-MODIFIED:20260311T165322Z
UID:16099-1774378800-1774386000@hamburgpa.org
SUMMARY:Classic Night- Jeremiah Johnson
DESCRIPTION:
URL:https://hamburgpa.org/event/classic-night-jeremiah-johnson/
LOCATION:Hamburg Strand Theater\, 6 S Fourth St\, Hamburg\, PA\, 19526\, United States
END:VEVENT
BEGIN:VEVENT
DTSTART;VALUE=DATE:20260325
DTEND;VALUE=DATE:20260326
DTSTAMP:20260420T091943
CREATED:20260313T172208Z
LAST-MODIFIED:20260313T172208Z
UID:16116-1774396800-1774483199@hamburgpa.org
SUMMARY:Easter Potato Filling & Bacon Dressing Sale
DESCRIPTION:*Orders are due by March 25th \n\nPick-up orders Friday\, April 3rd
URL:https://hamburgpa.org/event/easter-potato-filling-bacon-dressing-sale/
LOCATION:Kutztown Grange\, S Kemp St\, Kutztown\, PA\, 19530\, United States
END:VEVENT
BEGIN:VEVENT
DTSTART;TZID=America/New_York:20260326T090000
DTEND;TZID=America/New_York:20260326T090000
DTSTAMP:20260420T091943
CREATED:20251216T154733Z
LAST-MODIFIED:20251216T161913Z
UID:15699-1774515600-1774515600@hamburgpa.org
SUMMARY:Hamburg Senior Citizen's Club- Hunterdon Hills Playhouse Day Trip
DESCRIPTION:Hunterdon Hills Playhouse \n\nThe Sunshine Boys- $122.00\nLeave Hamburg Middle School at 9:00 AM\n\nAnyone who joins the day trips are asked to to join the club in the cost of $10.00 a year. \n\nPayment is due 1 month before the show and can be mailed to Gloria Hess\, 106 Geary Drive\, Hamburg\, PA 19526. Please make checks payable to Hamburg Senior Citizens Club. Payment for membership needs to be a separate check. \nIf you need to cancel a trip\, please call ASAP so that we can fill the seat. If cancellation is made the day of the trip\, refunds may not be able to be made\, since the payment for tickets and transportation has already been made. \n\nCall 610-562-3582 for any questions or to make reservations. 
URL:https://hamburgpa.org/event/hamburg-senior-citizens-club-hunterdon-hills-playhouse-day-trip/
LOCATION:PA
END:VEVENT
BEGIN:VEVENT
DTSTART;TZID=America/New_York:20260328T090000
DTEND;TZID=America/New_York:20260328T100000
DTSTAMP:20260420T091943
CREATED:20260219T171805Z
LAST-MODIFIED:20260219T171805Z
UID:15994-1774688400-1774692000@hamburgpa.org
SUMMARY:St. John's Easter Egg Hunt
DESCRIPTION:
URL:https://hamburgpa.org/event/st-johns-easter-egg-hunt/
LOCATION:Edenburg Park\, Hamburg\, PA\, 19526\, United States
END:VEVENT
BEGIN:VEVENT
DTSTART;TZID=America/New_York:20260328T090000
DTEND;TZID=America/New_York:20260328T140000
DTSTAMP:20260420T091943
CREATED:20260307T160619Z
LAST-MODIFIED:20260307T160619Z
UID:16072-1774688400-1774706400@hamburgpa.org
SUMMARY:Community Blood Drive
DESCRIPTION:
URL:https://hamburgpa.org/event/community-blood-drive/
LOCATION:Social Hall\, 52 Zion Church Road\, Shoemakersville\, PA\, 19555\, United States
END:VEVENT
BEGIN:VEVENT
DTSTART;TZID=America/New_York:20260328T120000
DTEND;TZID=America/New_York:20260328T140000
DTSTAMP:20260420T091943
CREATED:20260305T210731Z
LAST-MODIFIED:20260305T210731Z
UID:16050-1774699200-1774706400@hamburgpa.org
SUMMARY:Strength in Bloom
DESCRIPTION:
URL:https://hamburgpa.org/event/strength-in-bloom/
LOCATION:Art & Craft Gallery of Hamburg\, 320 State Street\, Hamburg\, PA\, 19526\, United States
END:VEVENT
BEGIN:VEVENT
DTSTART;TZID=America/New_York:20260328T130000
DTEND;TZID=America/New_York:20260328T150000
DTSTAMP:20260420T091943
CREATED:20260219T170502Z
LAST-MODIFIED:20260219T170502Z
UID:15984-1774702800-1774710000@hamburgpa.org
SUMMARY:Easter Themed Sugar Cookie Decorating Class
DESCRIPTION:
URL:https://hamburgpa.org/event/easter-themed-sugar-cookie-decorating-class/
LOCATION:Lucky Leprechaun\, 337 State St\, Hamburg\, PA\, 19526\, United States
END:VEVENT
BEGIN:VEVENT
DTSTART;TZID=America/New_York:20260329T130000
DTEND;TZID=America/New_York:20260329T150000
DTSTAMP:20260420T091943
CREATED:20260306T190745Z
LAST-MODIFIED:20260306T190745Z
UID:16063-1774789200-1774796400@hamburgpa.org
SUMMARY:Egg Hunt with Alice in Wonderland
DESCRIPTION:Fall down the rabbit hole and into a world of wonder! Join us for a wildly whimsical Alice in Wonderland themed egg hunt on March 29th from 1-3pm! Kids will search high and low for colored eggs\, play in mad hatter fun\, and indulge in a tea party while getting a photo with Alice!Costumes encouraged! Don’t miss out on this curiouser and curiouser adventure!Ages Recommended: 4-9yrs oldTicket event: $35/per child (plus 1 adult included)Ticket Includes:Easter BasketBunny CraftInteraction with AliceFilled Easter Eggs1 photo with AliceTicket Non-refundable and non-transferable unless canceled by the host.Book here: https://book.usesession.com/s/lQ4PLggjHaor Call Today! 484-660-3695* Alice played by Bree Poss from The Bree’s Knees Coffee Co.Bree Poss
URL:https://hamburgpa.org/event/egg-hunt-with-alice-in-wonderland/
LOCATION:Lazy Dog Vintage\, 157 State St\, Hamburg\, PA\, 19526\, United States
END:VEVENT
BEGIN:VEVENT
DTSTART;TZID=America/New_York:20260331T190000
DTEND;TZID=America/New_York:20260331T210000
DTSTAMP:20260420T091943
CREATED:20260317T194619Z
LAST-MODIFIED:20260317T194619Z
UID:16138-1774983600-1774990800@hamburgpa.org
SUMMARY:Kernsville Dam Recreation Area Draft MASTER PLAN 2026
DESCRIPTION:
URL:https://hamburgpa.org/event/kernsville-dam-recreation-area-draft-master-plan-2026/
LOCATION:Hamburg Strand Theater Party Room\, 6 S Fourth St\, Hamburg\, PA\, 19526\, United States
END:VEVENT
BEGIN:VEVENT
DTSTART;TZID=America/New_York:20260402T110000
DTEND;TZID=America/New_York:20260402T210000
DTSTAMP:20260420T091943
CREATED:20260305T152655Z
LAST-MODIFIED:20260305T152655Z
UID:16033-1775127600-1775163600@hamburgpa.org
SUMMARY:Tootsie Pop Flight Day
DESCRIPTION:
URL:https://hamburgpa.org/event/tootsie-pop-flight-day/
LOCATION:Copperz\, 798 S Fourth St\, Hamburg\, PA\, 19526\, United States
END:VEVENT
BEGIN:VEVENT
DTSTART;VALUE=DATE:20260404
DTEND;VALUE=DATE:20260405
DTSTAMP:20260420T091943
CREATED:20260310T154715Z
LAST-MODIFIED:20260310T160610Z
UID:16088-1775260800-1775347199@hamburgpa.org
SUMMARY:Cub Pack 184 Egg My Yard
DESCRIPTION:Orders by Monday\, March 23rd\nEggs will be scattered April 4th after dark!
URL:https://hamburgpa.org/event/cub-pack-184-egg-my-yard/
LOCATION:PA
END:VEVENT
BEGIN:VEVENT
DTSTART;TZID=America/New_York:20260404T120000
DTEND;TZID=America/New_York:20260404T160000
DTSTAMP:20260420T091943
CREATED:20260317T200024Z
LAST-MODIFIED:20260318T160404Z
UID:16150-1775304000-1775318400@hamburgpa.org
SUMMARY:The WhereHouse Easter Meal Packages
DESCRIPTION: 
URL:https://hamburgpa.org/event/the-wherehouse-easter-meal-packages/
LOCATION:The Wherehouse\, 215 Pine St\, Hamburg\, PA\, 19526\, United States
END:VEVENT
BEGIN:VEVENT
DTSTART;VALUE=DATE:20260406
DTEND;VALUE=DATE:20260527
DTSTAMP:20260420T091943
CREATED:20260317T195510Z
LAST-MODIFIED:20260317T195510Z
UID:16145-1775433600-1779839999@hamburgpa.org
SUMMARY:Blacksmithing Classes
DESCRIPTION:*Check dates and times for future classes!
URL:https://hamburgpa.org/event/blacksmithing-classes/
LOCATION:Fisher Forge\, 572 St. Michael's Road\, Hamburg\, PA\, 19526\, United States
END:VEVENT
BEGIN:VEVENT
DTSTART;TZID=America/New_York:20260406T170000
DTEND;TZID=America/New_York:20260406T190000
DTSTAMP:20260420T091943
CREATED:20260401T172410Z
LAST-MODIFIED:20260401T172410Z
UID:16238-1775494800-1775502000@hamburgpa.org
SUMMARY:NEW LOCATION GRAND OPENING- WHAT MATTERS CO. BARBERSHOP
DESCRIPTION:
URL:https://hamburgpa.org/event/new-location-grand-opening-what-matters-co-barbershop/
LOCATION:What Matters Co Barbershop\, 240 South 4th St\, Hamburg\, PA\, 19526\, United States
END:VEVENT
BEGIN:VEVENT
DTSTART;TZID=America/New_York:20260408T110000
DTEND;TZID=America/New_York:20260408T210000
DTSTAMP:20260420T091943
CREATED:20260318T160622Z
LAST-MODIFIED:20260318T160622Z
UID:16155-1775646000-1775682000@hamburgpa.org
SUMMARY:Support the Muscular Dystrophy Association @ The Westy Bar & Grill
DESCRIPTION:
URL:https://hamburgpa.org/event/support-the-muscular-dystrophy-association-the-westy-bar-grill/
LOCATION:The Westy Bar & Grill\, 279 West State Street\, Hamburg\, PA\, 19526\, United States
END:VEVENT
BEGIN:VEVENT
DTSTART;TZID=America/New_York:20260411T103000
DTEND;TZID=America/New_York:20260411T113000
DTSTAMP:20260420T091943
CREATED:20260323T155852Z
LAST-MODIFIED:20260323T155852Z
UID:16202-1775903400-1775907000@hamburgpa.org
SUMMARY:Join Our Creative Circle
DESCRIPTION:*For more information\, go to hamburgarts.org/events
URL:https://hamburgpa.org/event/join-our-creative-circle/
LOCATION:Art & Craft Gallery\, 320 State Street\, Hamburg\, PA\, 19526\, United States
END:VEVENT
BEGIN:VEVENT
DTSTART;TZID=America/New_York:20260411T120000
DTEND;TZID=America/New_York:20260411T160000
DTSTAMP:20260420T091943
CREATED:20260321T143758Z
LAST-MODIFIED:20260321T143758Z
UID:16174-1775908800-1775923200@hamburgpa.org
SUMMARY:HAMBURG HAWKS 5K
DESCRIPTION:
URL:https://hamburgpa.org/event/hamburg-hawks-5k/
LOCATION:Hamburg Area High School\, 701 Windsor Street\, Hamburg\, PA\, 19526\, United States
END:VEVENT
BEGIN:VEVENT
DTSTART;TZID=America/New_York:20260412T120000
DTEND;TZID=America/New_York:20260412T170000
DTSTAMP:20260420T091943
CREATED:20260330T142006Z
LAST-MODIFIED:20260330T142006Z
UID:16220-1775995200-1776013200@hamburgpa.org
SUMMARY:BINGO! BASKETS & BAR-BQ
DESCRIPTION:
URL:https://hamburgpa.org/event/bingo-baskets-bar-bq/
LOCATION:St. Mary Roman Catholic Church\, 94 Walnut Rd\, Hamburg\, PA\, 19526\, United States
END:VEVENT
BEGIN:VEVENT
DTSTART;TZID=America/New_York:20260412T150000
DTEND;TZID=America/New_York:20260412T170000
DTSTAMP:20260420T091943
CREATED:20260409T165608Z
LAST-MODIFIED:20260409T165608Z
UID:16254-1776006000-1776013200@hamburgpa.org
SUMMARY:Come Celebrate the service of Installation for Rev. Dr. Benjamin Motz
DESCRIPTION:
URL:https://hamburgpa.org/event/come-celebrate-the-service-of-installation-for-rev-dr-benjamin-motz/
LOCATION:First Reformed United Church of Christ\, 76 S. 3rd St\, Hamburg\, PA\, 19526\, United States
END:VEVENT
BEGIN:VEVENT
DTSTART;TZID=America/New_York:20260415T160000
DTEND;TZID=America/New_York:20260415T170000
DTSTAMP:20260420T091943
CREATED:20260410T163042Z
LAST-MODIFIED:20260410T163042Z
UID:16265-1776268800-1776272400@hamburgpa.org
SUMMARY:8 SECONDS TO STOP THE SCROLL: THE MOTION MAGIC TRICK (VIRTUAL)
DESCRIPTION:Create Scroll Stopping Social Media Posts\n\n\n\n\n\n\n\nEver Feel Like Your Posts Just Blend In?\nYou share good content. You post regularly. And still… it barely gets noticed.\nIt’s not because your message is wrong. It’s because still images aren’t effective anymore. \nIn this workshop\, we’ll talk about why movement matters now…\nwhy attention pauses for just a few seconds…\nand how some posts quietly earn that pause while others disappear.\nNo filming.\nNo editing skills.\nNo pressure to be on camera.\nJust a smarter way to help your content get seen without starting from scratch.\nOnce you understand this shift\, static posts won’t look the same again.\n\n\n\n\n\n\n\nWant to see a few video ideas\nyou will be seeing how they were created? \n\n\n\n\n\n\n\n\n\n\n\n\n\n\n\n\n\n\n\n\n\n\n\nCLICK HERE TO VIEW OUR PLAYLIST OF SHORT VIDEOS \nThen register today to make sure you don’t miss\nhow these were created. \nWe will be using ChatGPT for the Prompts\, Veo3.1 with Google Gemini and Canva to create the videos.\nIf you have a Google Workspace account you have access to Veo3.1 for FREE. Others will need to sign up for Veo3.1. \nThe features I will be showing you for Canva do require you to have the minimum paid account. \nYou can always cancel if you realize you aren’t using the Canva account.
URL:https://hamburgpa.org/event/8-seconds-to-stop-the-scroll-the-motion-magic-trick-virtual/
LOCATION:PA
END:VEVENT
BEGIN:VEVENT
DTSTART;TZID=America/New_York:20260418T080000
DTEND;TZID=America/New_York:20260418T130000
DTSTAMP:20260420T091943
CREATED:20260323T125143Z
LAST-MODIFIED:20260409T203502Z
UID:16183-1776499200-1776517200@hamburgpa.org
SUMMARY:First Reformed United Church Of Christ Church Yard Sale
DESCRIPTION:
URL:https://hamburgpa.org/event/first-reformed-united-church-of-christ-church-yard-sale/
LOCATION:First Reformed United Church of Christ Church\, 76 S. 3rd St\, Hamburg\, PA\, 19526\, United States
END:VEVENT
BEGIN:VEVENT
DTSTART;TZID=America/New_York:20260418T080000
DTEND;TZID=America/New_York:20260418T180000
DTSTAMP:20260420T091943
CREATED:20260303T173305Z
LAST-MODIFIED:20260303T173305Z
UID:16022-1776499200-1776535200@hamburgpa.org
SUMMARY:Everlong Records- Record Store Day
DESCRIPTION:
URL:https://hamburgpa.org/event/everlong-records-record-store-day-2/
LOCATION:Everlong Records\, 805 State Street\, Hamburg\, PA\, 19526\, United States
END:VEVENT
BEGIN:VEVENT
DTSTART;TZID=America/New_York:20260418T150000
DTEND;TZID=America/New_York:20260418T193000
DTSTAMP:20260420T091943
CREATED:20260327T154557Z
LAST-MODIFIED:20260327T154557Z
UID:16215-1776524400-1776540600@hamburgpa.org
SUMMARY:Hamburg Grange #2103 Fundraiser Held at Backwoods Brothers Authentic Texas Cuisine
DESCRIPTION:
URL:https://hamburgpa.org/event/hamburg-grange-2103-fundraiser-held-at-backwoods-brothers-authentic-texas-cuisine/
LOCATION:Backwoods Brothers Authentic Texas Cuisine\, 272 South Fourth Street\, Hamburg\, PA\, 19526\, United States
END:VEVENT
BEGIN:VEVENT
DTSTART;TZID=America/New_York:20260419T080000
DTEND;TZID=America/New_York:20260419T140000
DTSTAMP:20260420T091943
CREATED:20260414T145032Z
LAST-MODIFIED:20260414T145032Z
UID:16268-1776585600-1776607200@hamburgpa.org
SUMMARY:HAMBURG TOWN WIDE YARD SALE
DESCRIPTION:*Come join us for a day of yard sales around town! See the graphic for addresses of participants  Be sure to stop and check out local businesses too! #shopsmall\nTo be on the map: EMAIL lhozella79@gmail.com with your address by Wednesday\, April 15th. \n \n\n 
URL:https://hamburgpa.org/event/hamburg-town-wide-yard-sale/
LOCATION:PA
END:VEVENT
BEGIN:VEVENT
DTSTART;TZID=America/New_York:20260419T090000
DTEND;TZID=America/New_York:20260419T223000
DTSTAMP:20260420T091943
CREATED:20260227T190818Z
LAST-MODIFIED:20260227T190818Z
UID:16012-1776589200-1776637800@hamburgpa.org
SUMMARY:Andre Is Back!
DESCRIPTION:*Guest speaker Andre Van Zyl is back\, 3 different times! (times are on the flyer)
URL:https://hamburgpa.org/event/andre-is-back/
LOCATION:The Bridge Church\, 3561 Old Route 22\, Hamburg\, PA\, 19526\, United States
END:VEVENT
BEGIN:VEVENT
DTSTART;TZID=America/New_York:20260420T180000
DTEND;TZID=America/New_York:20260420T193000
DTSTAMP:20260420T091943
CREATED:20260309T142014Z
LAST-MODIFIED:20260309T142014Z
UID:16084-1776708000-1776713400@hamburgpa.org
SUMMARY:Mountain Bike Try-It! FREE Event
DESCRIPTION:
URL:https://hamburgpa.org/event/mountain-bike-try-it-free-event/
LOCATION:Hamburg Community Park (Etchberger Memorial Park)\, 211 N 2nd St\, Hamburg\, PA\, 19526\, United States
END:VEVENT
BEGIN:VEVENT
DTSTART;TZID=America/New_York:20260425T080000
DTEND;TZID=America/New_York:20260425T130000
DTSTAMP:20260420T091943
CREATED:20260408T195652Z
LAST-MODIFIED:20260408T195652Z
UID:16250-1777104000-1777122000@hamburgpa.org
SUMMARY:LC MEDICAL AND SUPPORT SERVICES- SPRING CHICKEN 5K
DESCRIPTION:
URL:https://hamburgpa.org/event/lc-medical-and-support-services-spring-chicken-5k/
LOCATION:Hamburg Park\, Hamburg\, PA\, 19526\, United States
END:VEVENT
END:VCALENDAR