BEGIN:VCALENDAR
VERSION:2.0
PRODID:-//Hamburg, PA - ECPv6.15.20//NONSGML v1.0//EN
CALSCALE:GREGORIAN
METHOD:PUBLISH
X-WR-CALNAME:Hamburg, PA
X-ORIGINAL-URL:https://hamburgpa.org
X-WR-CALDESC:Events for Hamburg, PA
REFRESH-INTERVAL;VALUE=DURATION:PT1H
X-Robots-Tag:noindex
X-PUBLISHED-TTL:PT1H
BEGIN:VTIMEZONE
TZID:America/New_York
BEGIN:DAYLIGHT
TZOFFSETFROM:-0500
TZOFFSETTO:-0400
TZNAME:EDT
DTSTART:20240310T070000
END:DAYLIGHT
BEGIN:STANDARD
TZOFFSETFROM:-0400
TZOFFSETTO:-0500
TZNAME:EST
DTSTART:20241103T060000
END:STANDARD
BEGIN:DAYLIGHT
TZOFFSETFROM:-0500
TZOFFSETTO:-0400
TZNAME:EDT
DTSTART:20250309T070000
END:DAYLIGHT
BEGIN:STANDARD
TZOFFSETFROM:-0400
TZOFFSETTO:-0500
TZNAME:EST
DTSTART:20251102T060000
END:STANDARD
BEGIN:DAYLIGHT
TZOFFSETFROM:-0500
TZOFFSETTO:-0400
TZNAME:EDT
DTSTART:20260308T070000
END:DAYLIGHT
BEGIN:STANDARD
TZOFFSETFROM:-0400
TZOFFSETTO:-0500
TZNAME:EST
DTSTART:20261101T060000
END:STANDARD
END:VTIMEZONE
BEGIN:VEVENT
DTSTART;TZID=America/New_York:20251214T173000
DTEND;TZID=America/New_York:20251214T173000
DTSTAMP:20260419T171022
CREATED:20251113T175359Z
LAST-MODIFIED:20251113T175359Z
UID:15601-1765733400-1765733400@hamburgpa.org
SUMMARY:Belleman's Old Church Christmas Celebration
DESCRIPTION:*Battery lights will be provided for the service \n\nChurch does not have heat\, electric or plumbing. Please dress accordingly for the weather. \nRefreshments in the Fellowship Hall following the service and Christmas Cookie Exchange (if you wish to participate\, please bring your favorite cookies packaged 6 per pack.
URL:https://hamburgpa.org/event/bellemans-old-church-christmas-celebration/
LOCATION:Belleman’s Old Church\, 3734 Belleman's Church Road\, Mohrsville\, PA\, 19541\, United States
END:VEVENT
BEGIN:VEVENT
DTSTART;TZID=America/New_York:20251214T160000
DTEND;TZID=America/New_York:20251214T160000
DTSTAMP:20260419T171022
CREATED:20251201T171935Z
LAST-MODIFIED:20251201T171935Z
UID:15662-1765728000-1765728000@hamburgpa.org
SUMMARY:The Red Kettle Concert
DESCRIPTION:Concert starts at 4 PM\nPerformances by: St. John’s Lutheran Choir\, local soloists\, musicians\, church & school groups\nFree refreshments will be provided after the performances\n\n*A free will offering will take place to the benefit The Salvation Army Hamburg Service Center\, helping residents in the Northern Berks County.
URL:https://hamburgpa.org/event/the-red-kettle-concert/
LOCATION:St. John’s Evangelical Lutheran Church\, 99 Church St\, Hamburg\, PA\, 19526\, United States
END:VEVENT
BEGIN:VEVENT
DTSTART;TZID=America/New_York:20251214T150000
DTEND;TZID=America/New_York:20251214T170000
DTSTAMP:20260419T171022
CREATED:20251106T185645Z
LAST-MODIFIED:20251106T185645Z
UID:15595-1765724400-1765731600@hamburgpa.org
SUMMARY:Goathouse Church One Yea Anniversary Celebration
DESCRIPTION:Cookies\, coffee\, and conversation to celebrate this special day and commemorate one year of our beloved space.\nSpecial Guest Organist Sue Wessner playing Christmas Carols
URL:https://hamburgpa.org/event/goathouse-church-one-yea-anniversary-celebration/
LOCATION:Goathouse Church\, 321 Island St\, Hamburg\, PA\, 19526\, United States
END:VEVENT
BEGIN:VEVENT
DTSTART;TZID=America/New_York:20251214T130000
DTEND;TZID=America/New_York:20251214T130000
DTSTAMP:20260419T171022
CREATED:20251030T151636Z
LAST-MODIFIED:20251030T151636Z
UID:15517-1765717200-1765717200@hamburgpa.org
SUMMARY:White Christmas
DESCRIPTION:*Sponsored by Dragonfly River Apothecary \n\nMovie- $10 with popcorn & soda\nDoors open at 12:30\n\n 
URL:https://hamburgpa.org/event/white-christmas/
LOCATION:Hamburg Strand Theater\, 6 S Fourth St\, Hamburg\, PA\, 19526\, United States
END:VEVENT
BEGIN:VEVENT
DTSTART;TZID=America/New_York:20251213T160000
DTEND;TZID=America/New_York:20251213T160000
DTSTAMP:20260419T171022
CREATED:20251118T184046Z
LAST-MODIFIED:20251118T184046Z
UID:15627-1765641600-1765641600@hamburgpa.org
SUMMARY:Sweet Treats Ribbon Cutting Ceremony
DESCRIPTION:*Sweet Treats is under new ownership!! \n\nRibbon cutting ceremony guest of honor Ebenezer Scrooge\nFeaturing a special ribbon sundae with vanilla soft serve\, marshmallow sauce\, freeze dried nerds topping and sour ribbon candy with a lollipop $4.99 (available 4-8pm while supplies last!)\nSpecial gust THE GRINCH from 5-6pm!\n\n*Enter to win a Sweet Treats gift card. Drawing will be held at 8pm!
URL:https://hamburgpa.org/event/sweet-treats-ribbon-cutting-ceremony/
LOCATION:Sweet Treats\, 234 State St.\, Hamburg\, PA\, 19526\, United States
END:VEVENT
BEGIN:VEVENT
DTSTART;TZID=America/New_York:20251213T160000
DTEND;TZID=America/New_York:20251213T160000
DTSTAMP:20260419T171022
CREATED:20251031T155053Z
LAST-MODIFIED:20251031T155146Z
UID:15546-1765641600-1765641600@hamburgpa.org
SUMMARY:St. Michael's Church Free Dine-In! Spaghetti Dinner
DESCRIPTION:Includes: spaghetti & meatballs\, fruit\, Italian bread\, dessert \n\n*Any donations go to Food For The Poor and iHeart Harvest
URL:https://hamburgpa.org/event/st-michaels-church-free-dine-in-spaghetti-dinner/
LOCATION:St. Michael’s Church\, 529 St. Michael's Road\, Hamburg\, PA\, 19526\, United States
END:VEVENT
BEGIN:VEVENT
DTSTART;TZID=America/New_York:20251210T110000
DTEND;TZID=America/New_York:20251210T210000
DTSTAMP:20260419T171022
CREATED:20251126T142435Z
LAST-MODIFIED:20251126T142435Z
UID:15649-1765364400-1765400400@hamburgpa.org
SUMMARY:Join Us to Support the Salvation Army Hamburg Service Center
DESCRIPTION:Bring a copy of this flyer or show it on your phone!\n15% of food sales donated back to The Salvation Army \nExcludes Beer and Alcohol\nDine in or Take out\n\n 
URL:https://hamburgpa.org/event/join-us-to-support-the-salvation-army-hamburg-service-center/
LOCATION:The Westy Bar & Grill\, 279 West State Street\, Hamburg\, PA\, 19526\, United States
END:VEVENT
BEGIN:VEVENT
DTSTART;TZID=America/New_York:20251209T190000
DTEND;TZID=America/New_York:20251209T190000
DTSTAMP:20260419T171022
CREATED:20251030T151141Z
LAST-MODIFIED:20251030T151141Z
UID:15513-1765306800-1765306800@hamburgpa.org
SUMMARY:The Best Christmas Pageant Ever
DESCRIPTION:*Sponsored by Zion’s Church \n\nMovie- $10 with popcorn & soda\nDoors open at 6:30
URL:https://hamburgpa.org/event/the-best-christmas-pageant-ever/
LOCATION:Hamburg Strand Theater\, 6 S Fourth St\, Hamburg\, PA\, 19526\, United States
END:VEVENT
BEGIN:VEVENT
DTSTART;TZID=America/New_York:20251207T130000
DTEND;TZID=America/New_York:20251207T130000
DTSTAMP:20260419T171022
CREATED:20251030T150913Z
LAST-MODIFIED:20251105T211113Z
UID:15508-1765112400-1765112400@hamburgpa.org
SUMMARY:Journey to Bethlehem
DESCRIPTION:*Sponsored by The First UCC of Hamburg \n\nMovie- $10 with popcorn & soda\nDoors open at 12:30pm 
URL:https://hamburgpa.org/event/journey-to-bethlehem/
LOCATION:Hamburg Strand Theater\, 6 S Fourth St\, Hamburg\, PA\, 19526\, United States
END:VEVENT
BEGIN:VEVENT
DTSTART;TZID=America/New_York:20251206T130000
DTEND;TZID=America/New_York:20251206T150000
DTSTAMP:20260419T171022
CREATED:20251105T185759Z
LAST-MODIFIED:20251106T150442Z
UID:15572-1765026000-1765033200@hamburgpa.org
SUMMARY:FREE Family Holiday Movie at the Hamburg Strand
DESCRIPTION:*Movie is sponsored by Sharon and John O’Boyle \n\nDoors open at 12:30
URL:https://hamburgpa.org/event/free-holiday-movie-at-the-hamburg-strand/
LOCATION:Hamburg Strand\, 6 S. 4th St\, Hamburg\, PA\, 19526\, United States
END:VEVENT
BEGIN:VEVENT
DTSTART;TZID=America/New_York:20251206T100000
DTEND;TZID=America/New_York:20251206T143000
DTSTAMP:20260419T171022
CREATED:20251203T155910Z
LAST-MODIFIED:20251203T155910Z
UID:15678-1765015200-1765031400@hamburgpa.org
SUMMARY:FREE Holiday Craft
DESCRIPTION:
URL:https://hamburgpa.org/event/free-holiday-craft/
LOCATION:Art and Craft Gallery\, 320 State Street\, Hamburg\, PA\, 19526\, United States
END:VEVENT
BEGIN:VEVENT
DTSTART;TZID=America/New_York:20251206T100000
DTEND;TZID=America/New_York:20251206T130000
DTSTAMP:20260419T171022
CREATED:20251023T153804Z
LAST-MODIFIED:20251023T153804Z
UID:15474-1765015200-1765026000@hamburgpa.org
SUMMARY:Christmas In The Square hosted by Our Town Foundation
DESCRIPTION:Join us for a Family Fun filled event!! \n\nPhoto-op with Santa\nKids crafts and activities\nFREE hot chocolate\nHoliday shopping\nHoliday music\nHoliday move at the Hamburg Strand \nAND MORE!!
URL:https://hamburgpa.org/event/christmas-in-the-square-hosted-by-our-town-foundation/
LOCATION:State Street Square\, 222 State St\, Hamburg\, PA\, 19526\, United States
END:VEVENT
BEGIN:VEVENT
DTSTART;TZID=America/New_York:20251206T090000
DTEND;TZID=America/New_York:20251206T140000
DTSTAMP:20260419T171022
CREATED:20251029T151742Z
LAST-MODIFIED:20251029T151742Z
UID:15485-1765011600-1765029600@hamburgpa.org
SUMMARY:Hamburg Area High School Holiday Craft Show
DESCRIPTION:Quality handcrafted items from local crafters \n\nFREE Admission- free parking\nRefreshments- raffles and 50/50\n\n 
URL:https://hamburgpa.org/event/hamburg-area-high-school-holiday-craft-show/
LOCATION:Hamburg High School\, 701 Windsor Street\, Hamburg\, PA\, 19526\, United States
END:VEVENT
BEGIN:VEVENT
DTSTART;TZID=America/New_York:20251205T160000
DTEND;TZID=America/New_York:20251205T180000
DTSTAMP:20260419T171022
CREATED:20251126T143821Z
LAST-MODIFIED:20251126T143821Z
UID:15654-1764950400-1764957600@hamburgpa.org
SUMMARY:15th Annual Shoemakersville Christmas Tree Lighting
DESCRIPTION:Enjoy complimentary light food & drinks\nEnter for a chance to win raffles\n\n  \n\n4:00 – 4:30 PM (Hamburg High School Ascending Chamber Strings\n4:30 PM (Santa & Mrs. Claus arrive by fire truck thanks to Shoemakersville Fire Company. Enjoy complimentary photos with Santa & Mrs. Claus until 6 PM.\n4:30 – 5:00 PM (Hamburg Middle School Soaring Strings)\n5:00 – 5:30 PM (Viola Holiday Tunes by Angie Dowd)\n5:30 – 6:00 PM (Blue Mountain Heritage Chorus)\n5:45 PM (Tree Lighting Ceremony)\n\n  \n \n 
URL:https://hamburgpa.org/event/15th-annual-shoemakersville-christmas-tree-lighting/
LOCATION:455 Main Street in Shoemakersville
END:VEVENT
BEGIN:VEVENT
DTSTART;TZID=America/New_York:20251130T140000
DTEND;TZID=America/New_York:20251130T140000
DTSTAMP:20260419T171022
CREATED:20250925T161447Z
LAST-MODIFIED:20250925T161527Z
UID:15361-1764511200-1764511200@hamburgpa.org
SUMMARY:A Traditional Christmas Concert Presented by The Blue Mountain Heritage Chorus
DESCRIPTION:Refreshments following program. A free will offering will be taken.  \n*Doors open at 1:30PM
URL:https://hamburgpa.org/event/a-traditional-christmas-concert-presented-by-the-blue-mountain-heritage-chorus/
LOCATION:PA
END:VEVENT
BEGIN:VEVENT
DTSTART;TZID=America/New_York:20251129T120000
DTEND;TZID=America/New_York:20251129T120000
DTSTAMP:20260419T171022
CREATED:20251030T152152Z
LAST-MODIFIED:20251030T152152Z
UID:15523-1764417600-1764417600@hamburgpa.org
SUMMARY:The Polar Express Pajama Party!
DESCRIPTION:*Wear your pj’s\, watch the movie and then meet with Santa after the show! \n\nTwo showings in one day!\nTickets are $12 person and includes a cookie and hot chocolate!\n\n 
URL:https://hamburgpa.org/event/the-polar-express-pajama-party-2/
LOCATION:Hamburg Strand Theater\, 6 S Fourth St\, Hamburg\, PA\, 19526\, United States
END:VEVENT
BEGIN:VEVENT
DTSTART;TZID=America/New_York:20251129T100000
DTEND;TZID=America/New_York:20251129T150000
DTSTAMP:20260419T171022
CREATED:20251105T185251Z
LAST-MODIFIED:20251121T170218Z
UID:15567-1764410400-1764428400@hamburgpa.org
SUMMARY:Small Business Saturday
DESCRIPTION:Join us for Small Business Saturday and show your love for our amazing local shops\, boutiques\, and restaurants! Stroll through Hamburg’s charming downtown\, find unique holiday gifts\, enjoy seasonal treats\, and experience the friendly\, small-town vibe that makes shopping local so special.\n \nWhy shop small?Every purchase supports local businesses\, helps our community thrive\, and keeps our historic downtown vibrant!\n 
URL:https://hamburgpa.org/event/small-business-saturday/
LOCATION:Downtown Hamburg\, PA\, Hamburg\, PA\, 19526\, United States
END:VEVENT
BEGIN:VEVENT
DTSTART;TZID=America/New_York:20251129T090000
DTEND;TZID=America/New_York:20251129T150000
DTSTAMP:20260419T171022
CREATED:20251113T205133Z
LAST-MODIFIED:20251113T205133Z
UID:15610-1764406800-1764428400@hamburgpa.org
SUMMARY:Craft & Vendor Fair at the Hamburg Moose Lodge 523
DESCRIPTION:*Raffle Baskets Benefitting BreAnn Kissinger Whistler
URL:https://hamburgpa.org/event/craft-vendor-fair-at-the-hamburg-moose-lodge-523/
LOCATION:Hamburg Moose Lodge 523\, 12 S 3rd St.\, Hamburg\, PA\, 19526\, United States
END:VEVENT
BEGIN:VEVENT
DTSTART;TZID=America/New_York:20251129T090000
DTEND;TZID=America/New_York:20251129T090000
DTSTAMP:20260419T171022
CREATED:20251030T152022Z
LAST-MODIFIED:20251030T152022Z
UID:15520-1764406800-1764406800@hamburgpa.org
SUMMARY:The Polar Express Pajama Party!
DESCRIPTION:*Wear your pj’s\, watch the movie and then meet with Santa after the show! \n\nTwo showings in one day!\nTickets are $12 person and includes a cookie and hot chocolate!
URL:https://hamburgpa.org/event/the-polar-express-pajama-party/
LOCATION:Hamburg Strand Theater\, 6 S Fourth St\, Hamburg\, PA\, 19526\, United States
END:VEVENT
BEGIN:VEVENT
DTSTART;TZID=America/New_York:20251128T080000
DTEND;TZID=America/New_York:20251128T180000
DTSTAMP:20260419T171022
CREATED:20251117T163529Z
LAST-MODIFIED:20251117T163529Z
UID:15624-1764316800-1764352800@hamburgpa.org
SUMMARY:Everlong Records Record Store Day
DESCRIPTION:Coffee & Non Coffee Drinks\n50% off Select Records\nFresh Selection of Used Vinyl\n\n*Start selling coffee at 7am
URL:https://hamburgpa.org/event/everlong-records-record-store-day/
LOCATION:Everlong Records\, 805 State Street\, Hamburg\, PA\, 19526\, United States
END:VEVENT
BEGIN:VEVENT
DTSTART;TZID=America/New_York:20251123T140000
DTEND;TZID=America/New_York:20251123T160000
DTSTAMP:20260419T171022
CREATED:20251030T134436Z
LAST-MODIFIED:20251030T134436Z
UID:15498-1763906400-1763913600@hamburgpa.org
SUMMARY:Hamburg Hawks Performing Arts is performing is performing Mary Poppins
DESCRIPTION:Come see Mary Poppins live on stage! \nWe are excited to bring the musical Mary Poppins to the Hamburg stage on Friday\, November 21 and Saturday\, November 22 at 7 PM and Sunday\, November 23 at 2 PM! Mary Poppins follows the Banks family in Edwardian London. When Mary Poppins arrives as their new nanny\, she takes the children\, Jane and Michael\, on fantastical adventures\, transforming ordinary tasks into extraordinary experiences. Along the way\, Mary introduces the children to memorable characters\, including Bert\, the chimney sweep. Mary Poppins is a celebration of the magic of childhood and the transformative power of imagination. The show will be held in the Hamburg Area High School auditorium. Tickets are $10 each and all seats are reserved. Tickets will also be available at the door. \nFor questions or inquiries about these events\, visit: https://sites.google.com/view/hamburg-hawks-performing-arts/home?authuser=0 or email hhpainfo@gmail.com.
URL:https://hamburgpa.org/event/hamburg-hawks-performing-arts-is-performing-is-performing-mary-poppins-2/
LOCATION:Hamburg High School Auditorium\, 701 Windsor Street\, Hamburg\, PA\, 19526\, United States
END:VEVENT
BEGIN:VEVENT
DTSTART;TZID=America/New_York:20251122T190000
DTEND;TZID=America/New_York:20251122T210000
DTSTAMP:20260419T171022
CREATED:20251030T134329Z
LAST-MODIFIED:20251030T134329Z
UID:15496-1763838000-1763845200@hamburgpa.org
SUMMARY:Hamburg Hawks Performing Arts is performing is performing Mary Poppins
DESCRIPTION:Come see Mary Poppins live on stage! \nWe are excited to bring the musical Mary Poppins to the Hamburg stage on Friday\, November 21 and Saturday\, November 22 at 7 PM and Sunday\, November 23 at 2 PM! Mary Poppins follows the Banks family in Edwardian London. When Mary Poppins arrives as their new nanny\, she takes the children\, Jane and Michael\, on fantastical adventures\, transforming ordinary tasks into extraordinary experiences. Along the way\, Mary introduces the children to memorable characters\, including Bert\, the chimney sweep. Mary Poppins is a celebration of the magic of childhood and the transformative power of imagination. The show will be held in the Hamburg Area High School auditorium. Tickets are $10 each and all seats are reserved. Tickets will also be available at the door. \nFor questions or inquiries about these events\, visit: https://sites.google.com/view/hamburg-hawks-performing-arts/home?authuser=0 or email hhpainfo@gmail.com. \n 
URL:https://hamburgpa.org/event/hamburg-hawks-performing-arts-is-performing-is-performing-mary-poppins/
LOCATION:Hamburg High School Auditorium\, 701 Windsor Street\, Hamburg\, PA\, 19526\, United States
END:VEVENT
BEGIN:VEVENT
DTSTART;TZID=America/New_York:20251121T190000
DTEND;TZID=America/New_York:20251121T190000
DTSTAMP:20260419T171022
CREATED:20251030T150611Z
LAST-MODIFIED:20251030T150611Z
UID:15503-1763751600-1763751600@hamburgpa.org
SUMMARY:Wicked For Good
DESCRIPTION:*Movie will be playing for 3 weeks  \n\nDoors open at 6:30 on weeknights and 12:30 on weekends
URL:https://hamburgpa.org/event/wicked-for-good/
LOCATION:Hamburg Strand Theater\, 6 S Fourth St\, Hamburg\, PA\, 19526\, United States
END:VEVENT
BEGIN:VEVENT
DTSTART;TZID=America/New_York:20251121T190000
DTEND;TZID=America/New_York:20251121T190000
DTSTAMP:20260419T171022
CREATED:20251016T194647Z
LAST-MODIFIED:20251016T194647Z
UID:15465-1763751600-1763751600@hamburgpa.org
SUMMARY:Hamburg Hawks Performing Arts & Hamburg Area School District Present Mary Poppins The Broadway Musical
DESCRIPTION:Tickets: $10 for Reserved Seating\nTo purchase online visit www.hasdhawks.org\nTickets will be available at the door\n\n 
URL:https://hamburgpa.org/event/hamburg-hawks-performing-arts-hamburg-area-school-district-present-mary-poppins-the-broadway-musical/
LOCATION:Hamburg High School Auditorium\, 701 Windsor Street\, Hamburg\, PA\, 19526\, United States
END:VEVENT
BEGIN:VEVENT
DTSTART;TZID=America/New_York:20251121T100000
DTEND;TZID=America/New_York:20251224T180000
DTSTAMP:20260419T171022
CREATED:20251201T172644Z
LAST-MODIFIED:20251201T190400Z
UID:15666-1763719200-1766599200@hamburgpa.org
SUMMARY:REGISTER TO RING- VOLUNTEER BELL RINGERS NEEDED
DESCRIPTION:WANTED: Individuals\, Businesses\, Clubs & Organizations\nThe Salvation Army Hamburg Service Center needs bell ringers for the 2025 Red Kettle Christmas Season\nTimeslots: Monday through Saturday- 10:00 AM to 6:00 PM\nShifts: Sign-ups are in 2 hours shifts\n\n  \nBell Ringing Locations: \n\nHamburg- Redner’s Market\, Walmart and Cabela’s \nLeesport- Redner’s Market\nTemple- Sam’s Club\nBernville- Boyer’s Market\n\nHow to Volunteer: \n\nCall or Text: Steve Clark\, Red Kettle Coordinator @ 484-663-4797\nRegister at: timetosignup/Hamburgredkettle \nEmail: redkettlehamburg@gmail.com\n\n \n 
URL:https://hamburgpa.org/event/register-to-ring-volunteer-bell-ringers-needed/
LOCATION:PA
END:VEVENT
BEGIN:VEVENT
DTSTART;VALUE=DATE:20251117
DTEND;VALUE=DATE:20251118
DTSTAMP:20260419T171022
CREATED:20251105T141656Z
LAST-MODIFIED:20251105T141656Z
UID:15552-1763337600-1763423999@hamburgpa.org
SUMMARY:Thanksgiving Potato Filling & Bacon Dressing Sale
DESCRIPTION:Made by Kutztown Grange \n\nOrder by November 17\nPick-up orders November 25\nFilling 2lbs- $9.00      3lbs- $11.00\nDressing pint- $6.00     Quart- $10.00\n\n*To place orders call or text: Rhonda (610)762-4611
URL:https://hamburgpa.org/event/thanksgiving-potato-filling-bacon-dressing-sale/
LOCATION:PA
END:VEVENT
BEGIN:VEVENT
DTSTART;TZID=America/New_York:20251115T080000
DTEND;TZID=America/New_York:20251115T130000
DTSTAMP:20260419T171022
CREATED:20251002T144619Z
LAST-MODIFIED:20251002T144619Z
UID:15400-1763193600-1763211600@hamburgpa.org
SUMMARY:Salem-Berne United Methodist Church Holiday Bazaar
DESCRIPTION:Homemade cookies\nWhite Elephant\nHandmade crafts\nHomemade soups\nHomemade jarred goods\n\n 
URL:https://hamburgpa.org/event/salem-berne-united-methodist-church-holiday-bazaar/
LOCATION:Salem-Bene United Methodist Church\, 292 Salem Church Road\, Hamburg\, PA\, 19526\, United States
END:VEVENT
BEGIN:VEVENT
DTSTART;TZID=America/New_York:20251115T080000
DTEND;TZID=America/New_York:20251115T120000
DTSTAMP:20260419T171022
CREATED:20251031T154311Z
LAST-MODIFIED:20251106T184812Z
UID:15536-1763193600-1763208000@hamburgpa.org
SUMMARY:St. Michael's Church Holiday Baked Good & Basket Raffle
DESCRIPTION:Prizes include: tv\, leaf blower\, patio set\, kids items and gift cards! \nPre-order pies: lemon strip\, lemon sponge\, cherry\, coconut cream\, shoo-fly\, pumpkin $9 per pie \n \n 
URL:https://hamburgpa.org/event/st-michae/
LOCATION:St. Michael’s Church\, 529 St. Michael's Road\, Hamburg\, PA\, 19526\, United States
END:VEVENT
BEGIN:VEVENT
DTSTART;TZID=America/New_York:20251114T180000
DTEND;TZID=America/New_York:20251114T200000
DTSTAMP:20260419T171022
CREATED:20251029T140601Z
LAST-MODIFIED:20251029T140601Z
UID:15482-1763143200-1763150400@hamburgpa.org
SUMMARY:DIY Ugly Wreath Sweatshirt Class
DESCRIPTION:Bring your friends and family to make this ugly Christmas sweatshirt. Perfect to wear at all your ugly sweater Christmas parties! \n\n$25 per person\nIncludes- sweatshirt\, all supplies to decorate\, garland\, and bow
URL:https://hamburgpa.org/event/diy-ugly-wreath-sweatshirt-class/
LOCATION:Art & Craft Gallery of Hamburg\, 320 State Street\, Hamburg\, PA\, 19526\, United States
END:VEVENT
BEGIN:VEVENT
DTSTART;TZID=America/New_York:20251114T160000
DTEND;TZID=America/New_York:20251114T200000
DTSTAMP:20260419T171022
CREATED:20251010T183043Z
LAST-MODIFIED:20251106T184925Z
UID:15438-1763136000-1763150400@hamburgpa.org
SUMMARY:St. Michael's Church Holiday Baked Goods & Basket Raffle
DESCRIPTION:Prizes include: smart tv\, Bluetooth speakers\, air fryer\, yeti cooler bag & more! \nPre-order pies: lemon strip\, lemon sponge\, cherry\, coconut cream\, shoo-fly\, pumpkin $9 per pie \n\nDeadline to order pies is October 26\, 2025!
URL:https://hamburgpa.org/event/st-michaels-church-holiday-baked-goods-basket-raffle/
LOCATION:St. Michael’s Church\, 529 St. Michael's Road\, Hamburg\, PA\, 19526\, United States
END:VEVENT
END:VCALENDAR