BEGIN:VCALENDAR
VERSION:2.0
PRODID:-//Hamburg, PA - ECPv6.15.20//NONSGML v1.0//EN
CALSCALE:GREGORIAN
METHOD:PUBLISH
X-ORIGINAL-URL:https://hamburgpa.org
X-WR-CALDESC:Events for Hamburg, PA
REFRESH-INTERVAL;VALUE=DURATION:PT1H
X-Robots-Tag:noindex
X-PUBLISHED-TTL:PT1H
BEGIN:VTIMEZONE
TZID:America/New_York
BEGIN:DAYLIGHT
TZOFFSETFROM:-0500
TZOFFSETTO:-0400
TZNAME:EDT
DTSTART:20250309T070000
END:DAYLIGHT
BEGIN:STANDARD
TZOFFSETFROM:-0400
TZOFFSETTO:-0500
TZNAME:EST
DTSTART:20251102T060000
END:STANDARD
BEGIN:DAYLIGHT
TZOFFSETFROM:-0500
TZOFFSETTO:-0400
TZNAME:EDT
DTSTART:20260308T070000
END:DAYLIGHT
BEGIN:STANDARD
TZOFFSETFROM:-0400
TZOFFSETTO:-0500
TZNAME:EST
DTSTART:20261101T060000
END:STANDARD
BEGIN:DAYLIGHT
TZOFFSETFROM:-0500
TZOFFSETTO:-0400
TZNAME:EDT
DTSTART:20270314T070000
END:DAYLIGHT
BEGIN:STANDARD
TZOFFSETFROM:-0400
TZOFFSETTO:-0500
TZNAME:EST
DTSTART:20271107T060000
END:STANDARD
END:VTIMEZONE
BEGIN:VEVENT
DTSTART;TZID=America/New_York:20260502T090000
DTEND;TZID=America/New_York:20260502T120000
DTSTAMP:20260419T204349
CREATED:20260323T155012Z
LAST-MODIFIED:20260323T155012Z
UID:16198-1777712400-1777723200@hamburgpa.org
SUMMARY:Keep Hamburg Beautiful Cleanup Day
DESCRIPTION:*Please register at 8:30 AM so we can get everyone checked in and organized for the day. We will gather at 9:00 AM at Journey Café\, located at 3rd and Pine Streets\, for a brief meeting to go over the cleanup plan\, assign areas\, and review important details. \nA free breakfast will be provided as a thank-you to all volunteers. After breakfast\, we will head out for approximately two hours of cleanup. \nWe appreciate your time and help in making our community a cleaner\, more welcoming place!
URL:https://hamburgpa.org/event/keep-hamburg-beautiful-cleanup-day/
LOCATION:Journey Cafe\, 320 Pine Street\, Hamburg\, PA\, 19526\, United States
END:VEVENT
BEGIN:VEVENT
DTSTART;TZID=America/New_York:20260502T130000
DTEND;TZID=America/New_York:20260502T150000
DTSTAMP:20260419T204349
CREATED:20260410T162151Z
LAST-MODIFIED:20260410T162151Z
UID:16262-1777726800-1777734000@hamburgpa.org
SUMMARY:HAMBURG PUBLIC LIBRARY GRAND OPENING AND RIBBON CUTTING
DESCRIPTION:
URL:https://hamburgpa.org/event/hamburg-public-library-grand-opening-and-ribbon-cutting/
LOCATION:Hamburg Public Library\, 35 North 3rd St\, Hamburg\, PA\, 19526\, United States
END:VEVENT
BEGIN:VEVENT
DTSTART;TZID=America/New_York:20260503T150000
DTEND;TZID=America/New_York:20260503T170000
DTSTAMP:20260419T204349
CREATED:20260330T181013Z
LAST-MODIFIED:20260330T181013Z
UID:16226-1777820400-1777827600@hamburgpa.org
SUMMARY:Henna & Forest Therapy Walk
DESCRIPTION:
URL:https://hamburgpa.org/event/henna-forest-therapy-walk/
LOCATION:Kernsville Dam Rec Area\, Hamburg\, PA\, 19526\, United States
END:VEVENT
BEGIN:VEVENT
DTSTART;VALUE=DATE:20260507
DTEND;VALUE=DATE:20260508
DTSTAMP:20260419T204349
CREATED:20260402T142934Z
LAST-MODIFIED:20260402T142934Z
UID:16243-1778112000-1778198399@hamburgpa.org
SUMMARY:Hamburg Library Plant Sale Fundraiser
DESCRIPTION:
URL:https://hamburgpa.org/event/hamburg-library-plant-sale-fundraiser/
LOCATION:Hamburg Public Library\, 35 North 3rd St\, Hamburg\, PA\, 19526\, United States
END:VEVENT
BEGIN:VEVENT
DTSTART;TZID=America/New_York:20260509T110000
DTEND;TZID=America/New_York:20260509T130000
DTSTAMP:20260419T204349
CREATED:20260401T135309Z
LAST-MODIFIED:20260401T135309Z
UID:16234-1778324400-1778331600@hamburgpa.org
SUMMARY:Springtime Tea
DESCRIPTION:
URL:https://hamburgpa.org/event/springtime-tea/
LOCATION:First Reformed United Church of Christ\, 76 S. 3rd St\, Hamburg\, PA\, 19526\, United States
END:VEVENT
BEGIN:VEVENT
DTSTART;TZID=America/New_York:20260509T183000
DTEND;TZID=America/New_York:20260509T210000
DTSTAMP:20260419T204349
CREATED:20260415T163308Z
LAST-MODIFIED:20260415T163308Z
UID:16273-1778351400-1778360400@hamburgpa.org
SUMMARY:Dove Christian Fellowship North Gate Presents: "The Gathering"
DESCRIPTION:“Looking for something to do on a Saturday night with Christian values?”\n“Come and fellowship with us and share a night of fun\, games\, music and food!”\n\n 
URL:https://hamburgpa.org/event/dove-christian-fellowship-north-gate-presents-the-gathering/
LOCATION:Dove Christian Fellowship North Gate\, 31 North Third Street\, Hamburg\, PA\, 19526\, United States
END:VEVENT
BEGIN:VEVENT
DTSTART;TZID=America/New_York:20260513T110000
DTEND;TZID=America/New_York:20260513T183000
DTSTAMP:20260419T204349
CREATED:20260304T182208Z
LAST-MODIFIED:20260304T182244Z
UID:16028-1778670000-1778697000@hamburgpa.org
SUMMARY:4th Annual Style Show
DESCRIPTION:
URL:https://hamburgpa.org/event/4th-annual-style-show/
LOCATION:Hamburg Family Eye Care\, 260 State St\, Hamburg\, PA\, 19526\, United States
END:VEVENT
BEGIN:VEVENT
DTSTART;TZID=America/New_York:20260513T110000
DTEND;TZID=America/New_York:20260513T183000
DTSTAMP:20260419T204349
CREATED:20260415T174823Z
LAST-MODIFIED:20260415T174823Z
UID:16277-1778670000-1778697000@hamburgpa.org
SUMMARY:4TH ANNUAL STYLE SHOW
DESCRIPTION:
URL:https://hamburgpa.org/event/4th-annual-style-show-2/
LOCATION:Hamburg Family Eye Care\, 260 State St\, Hamburg\, PA\, 19526\, United States
END:VEVENT
BEGIN:VEVENT
DTSTART;TZID=America/New_York:20260516T090000
DTEND;TZID=America/New_York:20260516T110000
DTSTAMP:20260419T204349
CREATED:20260401T135129Z
LAST-MODIFIED:20260401T135129Z
UID:16230-1778922000-1778929200@hamburgpa.org
SUMMARY:FREE Community Meal: Sausage and Pancake Breakfast
DESCRIPTION:
URL:https://hamburgpa.org/event/free-community-meal-sausage-and-pancake-breakfast/
LOCATION:First Reformed United Church of Christ Church\, 76 S. 3rd St\, Hamburg\, PA\, 19526\, United States
END:VEVENT
BEGIN:VEVENT
DTSTART;TZID=America/New_York:20260516T170000
DTEND;TZID=America/New_York:20260516T180000
DTSTAMP:20260419T204349
CREATED:20260409T170229Z
LAST-MODIFIED:20260409T170229Z
UID:16257-1778950800-1778954400@hamburgpa.org
SUMMARY:St. Michael's Church Free Dine-In! Spaghetti Dinner
DESCRIPTION:
URL:https://hamburgpa.org/event/st-michaels-church-free-dine-in-spaghetti-dinner-2/
LOCATION:St. Michael’s Church\, 529 St. Michael's Road\, Hamburg\, PA\, 19526\, United States
END:VEVENT
BEGIN:VEVENT
DTSTART;TZID=America/New_York:20260516T173000
DTEND;TZID=America/New_York:20260516T220000
DTSTAMP:20260419T204349
CREATED:20260318T191533Z
LAST-MODIFIED:20260318T191533Z
UID:16158-1778952600-1778968800@hamburgpa.org
SUMMARY:COMMUNITY HOEDOWN
DESCRIPTION:
URL:https://hamburgpa.org/event/community-hoedown/
LOCATION:Belleman’s Church Fellowship Hall\, 3730 Belleman's Church Road\, Mohrsville\, PA\, 19541\, United States
END:VEVENT
BEGIN:VEVENT
DTSTART;TZID=America/New_York:20260517T090000
DTEND;TZID=America/New_York:20260517T130000
DTSTAMP:20260419T204349
CREATED:20260321T143947Z
LAST-MODIFIED:20260321T143947Z
UID:16177-1779008400-1779022800@hamburgpa.org
SUMMARY:4TH ANNUAL Car\, Truck\, and Bike Show
DESCRIPTION:
URL:https://hamburgpa.org/event/4th-annual-car-truck-and-bike-show/
LOCATION:Hamburg Area High School\, 701 Windsor Street\, Hamburg\, PA\, 19526\, United States
END:VEVENT
BEGIN:VEVENT
DTSTART;TZID=America/New_York:20260522T100000
DTEND;TZID=America/New_York:20260522T100000
DTSTAMP:20260419T204349
CREATED:20251216T155159Z
LAST-MODIFIED:20251216T161755Z
UID:15703-1779444000-1779444000@hamburgpa.org
SUMMARY:Hamburg Senior Citizen's Club Dutch Apple Dinner Theatre Day Trip
DESCRIPTION:Dutch Apple Dinner Theatre \n\nAll Shook Up- $115.00\nLeave at Hamburg Area Middle School at 10:00 AM\n\nAnyone who joins the day trips are asked to to join the club in the cost of $10.00 a year. \n\nPayment is due 1 month before the show and can be mailed to Gloria Hess\, 106 Geary Drive\, Hamburg\, PA 19526. Please make checks payable to Hamburg Senior Citizens Club. Payment for membership needs to be a separate check. \nIf you need to cancel a trip\, please call ASAP so that we can fill the seat. If cancellation is made the day of the trip\, refunds may not be able to be made\, since the payment for tickets and transportation has already been made. \n\nCall 610-562-3582 for any questions or to make reservations. 
URL:https://hamburgpa.org/event/hamburg-senior-citizens-club-dutch-apple-dinner-theatre-day-trip/
LOCATION:PA
END:VEVENT
BEGIN:VEVENT
DTSTART;VALUE=DATE:20260531
DTEND;VALUE=DATE:20260601
DTSTAMP:20260419T204349
CREATED:20260407T184008Z
LAST-MODIFIED:20260407T184008Z
UID:16247-1780185600-1780271999@hamburgpa.org
SUMMARY:Berks In Focus- A Countywide Student Photography Challenge
DESCRIPTION:
URL:https://hamburgpa.org/event/berks-in-focus-a-countywide-student-photography-challenge/
LOCATION:PA
END:VEVENT
BEGIN:VEVENT
DTSTART;TZID=America/New_York:20260606T090000
DTEND;TZID=America/New_York:20260606T170000
DTSTAMP:20260419T204349
CREATED:20260317T195105Z
LAST-MODIFIED:20260317T195105Z
UID:16142-1780736400-1780765200@hamburgpa.org
SUMMARY:Hawk Mountain Arts Tour & Sale
DESCRIPTION:
URL:https://hamburgpa.org/event/hawk-mountain-arts-tour-sale/
LOCATION:State Street Square\, 222 State St\, Hamburg\, PA\, 19526\, United States
END:VEVENT
BEGIN:VEVENT
DTSTART;TZID=America/New_York:20260606T090000
DTEND;TZID=America/New_York:20260606T170000
DTSTAMP:20260419T204349
CREATED:20260323T160023Z
LAST-MODIFIED:20260323T160023Z
UID:16206-1780736400-1780765200@hamburgpa.org
SUMMARY:Hawk Mountain Arts Tour
DESCRIPTION:
URL:https://hamburgpa.org/event/hawk-mountain-arts-tour/
LOCATION:State Street Square\, 222 State St\, Hamburg\, PA\, 19526\, United States
END:VEVENT
BEGIN:VEVENT
DTSTART;VALUE=DATE:20260608
DTEND;VALUE=DATE:20260815
DTSTAMP:20260419T204349
CREATED:20260307T160920Z
LAST-MODIFIED:20260307T160920Z
UID:16076-1780876800-1786751999@hamburgpa.org
SUMMARY:Summer Study
DESCRIPTION:
URL:https://hamburgpa.org/event/summer-study/
LOCATION:PA
END:VEVENT
BEGIN:VEVENT
DTSTART;TZID=America/New_York:20260613T120000
DTEND;TZID=America/New_York:20260613T200000
DTSTAMP:20260419T204349
CREATED:20260317T180547Z
LAST-MODIFIED:20260317T180547Z
UID:16121-1781352000-1781380800@hamburgpa.org
SUMMARY:Hamburg Music Fest
DESCRIPTION:
URL:https://hamburgpa.org/event/hamburg-music-fest/
LOCATION:State Street Square\, 222 State St\, Hamburg\, PA\, 19526\, United States
END:VEVENT
BEGIN:VEVENT
DTSTART;TZID=America/New_York:20260615T090000
DTEND;TZID=America/New_York:20260731T160000
DTSTAMP:20260419T204349
CREATED:20260227T191931Z
LAST-MODIFIED:20260227T192106Z
UID:16016-1781514000-1785513600@hamburgpa.org
SUMMARY:Berks Nature's ECO-CAMP
DESCRIPTION:
URL:https://hamburgpa.org/event/berks-natures-eco-camp/
LOCATION:Kaercher Creek Park\, 100 Kaercher Creek Rd\, Hamburg\, PA\, 19526\, United States
END:VEVENT
BEGIN:VEVENT
DTSTART;TZID=America/New_York:20260622T170000
DTEND;TZID=America/New_York:20260622T180000
DTSTAMP:20260419T204349
CREATED:20260217T201705Z
LAST-MODIFIED:20260217T203018Z
UID:15939-1782147600-1782151200@hamburgpa.org
SUMMARY:Connecting Trail Users to Town Workshop
DESCRIPTION:*Location TBD \n\nRSVP to office@ourtownfoundation.org\, 610-562-3106\n\n(Dates and times are subject to change).
URL:https://hamburgpa.org/event/connecting-trail-users-to-town-workshop/
LOCATION:PA
END:VEVENT
BEGIN:VEVENT
DTSTART;TZID=America/New_York:20260721T120000
DTEND;TZID=America/New_York:20260721T130000
DTSTAMP:20260419T204349
CREATED:20260217T201814Z
LAST-MODIFIED:20260217T203059Z
UID:15942-1784635200-1784638800@hamburgpa.org
SUMMARY:Importance of Networking Workshop
DESCRIPTION:*Location TBD \n\nRSVP to office@ourtownfoundation.org\, 610-562-3106\n\n(Dates and times are subject to change).
URL:https://hamburgpa.org/event/importance-of-networking-workshop/
LOCATION:PA
END:VEVENT
BEGIN:VEVENT
DTSTART;TZID=America/New_York:20260730T103000
DTEND;TZID=America/New_York:20260730T103000
DTSTAMP:20260419T204349
CREATED:20251216T155350Z
LAST-MODIFIED:20251216T161711Z
UID:15705-1785407400-1785407400@hamburgpa.org
SUMMARY:Hamburg Senior Citizen's Club Pine Dinner Theatre Day Trip
DESCRIPTION:Pine Dinner Theatre \n\nSchool of Rock- $106.00\nLeave Hamburg Middle School at 10:30 AM\n\nAnyone who joins the day trips are asked to to join the club in the cost of $10.00 a year. \n\nPayment is due 1 month before the show and can be mailed to Gloria Hess\, 106 Geary Drive\, Hamburg\, PA 19526. Please make checks payable to Hamburg Senior Citizens Club. Payment for membership needs to be a separate check. \nIf you need to cancel a trip\, please call ASAP so that we can fill the seat. If cancellation is made the day of the trip\, refunds may not be able to be made\, since the payment for tickets and transportation has already been made. \n\nCall 610-562-3582 for any questions or to make reservations. 
URL:https://hamburgpa.org/event/hamburg-senior-citizens-club-pine-dinner-theatre-day-trip/
LOCATION:PA
END:VEVENT
BEGIN:VEVENT
DTSTART;TZID=America/New_York:20260905T100000
DTEND;TZID=America/New_York:20260905T180000
DTSTAMP:20260419T204349
CREATED:20260317T181349Z
LAST-MODIFIED:20260317T181349Z
UID:16127-1788602400-1788631200@hamburgpa.org
SUMMARY:TASTE OF HAMBURGer Festival
DESCRIPTION:
URL:https://hamburgpa.org/event/taste-of-hamburger-festival/
LOCATION:Downtown Hamburg
END:VEVENT
BEGIN:VEVENT
DTSTART;TZID=America/New_York:20260911T100000
DTEND;TZID=America/New_York:20260911T100000
DTSTAMP:20260419T204349
CREATED:20251216T155553Z
LAST-MODIFIED:20251216T161612Z
UID:15708-1789120800-1789120800@hamburgpa.org
SUMMARY:Hamburg Senior Citizen's Club Dutch Apple Dinner Theatre Day Trip
DESCRIPTION:Dutch Apple Dinner Theatre \n\nPretty Women\nLeave Hamburg Area Middle School at 10:00 AM\n\nAnyone who joins the day trips are asked to to join the club in the cost of $10.00 a year. \n\nPayment is due 1 month before the show and can be mailed to Gloria Hess\, 106 Geary Drive\, Hamburg\, PA 19526. Please make checks payable to Hamburg Senior Citizens Club. Payment for membership needs to be a separate check. \nIf you need to cancel a trip\, please call ASAP so that we can fill the seat. If cancellation is made the day of the trip\, refunds may not be able to be made\, since the payment for tickets and transportation has already been made. \n\nCall 610-562-3582 for any questions or to make reservations. 
URL:https://hamburgpa.org/event/hamburg-senior-citizens-club-dutch-apple-dinner-theatre-day-trip-2/
LOCATION:PA
END:VEVENT
BEGIN:VEVENT
DTSTART;TZID=America/New_York:20260929T100000
DTEND;TZID=America/New_York:20260929T110000
DTSTAMP:20260419T204349
CREATED:20260217T202016Z
LAST-MODIFIED:20260217T203314Z
UID:15945-1790676000-1790679600@hamburgpa.org
SUMMARY:Planning for the Holiday Season Workshop
DESCRIPTION:*Location TBD \n\nRSVP to office@ourtownfoundation.org\, 610-562-3106\n\n(Dates and times are subject to change).
URL:https://hamburgpa.org/event/planning-for-the-holiday-season-workshop/
LOCATION:PA
END:VEVENT
BEGIN:VEVENT
DTSTART;TZID=America/New_York:20261019T090000
DTEND;TZID=America/New_York:20261019T100000
DTSTAMP:20260419T204349
CREATED:20260217T202651Z
LAST-MODIFIED:20260217T203503Z
UID:15948-1792400400-1792404000@hamburgpa.org
SUMMARY:What Support Does Your Business Need? Workshop
DESCRIPTION:*Location TBD \n\nRSVP to office@ourtownfoundation.org\, 610-562-3106\n\n(Dates and times are subject to change).
URL:https://hamburgpa.org/event/what-support-does-your-business-need-workshop/
LOCATION:PA
END:VEVENT
BEGIN:VEVENT
DTSTART;TZID=America/New_York:20261105T090000
DTEND;TZID=America/New_York:20261105T170000
DTSTAMP:20260419T204349
CREATED:20251216T155910Z
LAST-MODIFIED:20251216T161528Z
UID:15710-1793869200-1793898000@hamburgpa.org
SUMMARY:Hamburg Senior Citizen's Club American Music Theatre Day Trip
DESCRIPTION:American Music Theatre \n\nEat at Hersey Farms Resort- $125.25\nLeave Hamburg Area Middle School at 9:00 AM\n\nAnyone who joins the day trips are asked to to join the club in the cost of $10.00 a year. \n\nPayment is due 1 month before the show and can be mailed to Gloria Hess\, 106 Geary Drive\, Hamburg\, PA 19526. Please make checks payable to Hamburg Senior Citizens Club. Payment for membership needs to be a separate check. \nIf you need to cancel a trip\, please call ASAP so that we can fill the seat. If cancellation is made the day of the trip\, refunds may not be able to be made\, since the payment for tickets and transportation has already been made. \n\nCall 610-562-3582 for any questions or to make reservations. 
URL:https://hamburgpa.org/event/hamburg-senior-citizens-club-american-music-theatre-day-trip/
LOCATION:PA
END:VEVENT
BEGIN:VEVENT
DTSTART;TZID=America/New_York:20261116T170000
DTEND;TZID=America/New_York:20261116T180000
DTSTAMP:20260419T204349
CREATED:20260217T203654Z
LAST-MODIFIED:20260217T203723Z
UID:15957-1794848400-1794852000@hamburgpa.org
SUMMARY:Commercial Real Estate Workshop
DESCRIPTION:*Location TBD \n\nHow can we support growth in Hamburg?\nRSVP to office@ourtownfoundation.org\, 610-562-3106\n(Dates and times are subject to change).
URL:https://hamburgpa.org/event/commercial-real-estate-workshop/
LOCATION:PA
END:VEVENT
BEGIN:VEVENT
DTSTART;TZID=America/New_York:20261203T090000
DTEND;TZID=America/New_York:20261203T090000
DTSTAMP:20260419T204349
CREATED:20251216T160235Z
LAST-MODIFIED:20251218T161631Z
UID:15712-1796288400-1796288400@hamburgpa.org
SUMMARY:Hamburg Senior Citizen's Club Hunterdon Hills Playhouse Christmas Show Day Trip
DESCRIPTION:Hunterdon Hills Playhouse Christmas Show  \n\nWinter Wonderland- $127.00\nLeave Hamburg Area Middle School at 9:00 AM\n\nAnyone who joins the day trips are asked to to join the club in the cost of $10.00 a year. \n\nPayment is due 1 month before the show and can be mailed to Gloria Hess\, 106 Geary Drive\, Hamburg\, PA 19526. Please make checks payable to Hamburg Senior Citizens Club. Payment for membership needs to be a separate check. \nIf you need to cancel a trip\, please call ASAP so that we can fill the seat. If cancellation is made the day of the trip\, refunds may not be able to be made\, since the payment for tickets and transportation has already been made. \n\nCall 610-562-3582 for any questions or to make reservations. 
URL:https://hamburgpa.org/event/hamburg-senior-citizens-club-hunterdon-hills-playhouse-christmas-show-day-trip/
LOCATION:PA
END:VEVENT
BEGIN:VEVENT
DTSTART;TZID=America/New_York:20261205T090000
DTEND;TZID=America/New_York:20261205T140000
DTSTAMP:20260419T204349
CREATED:20260321T144118Z
LAST-MODIFIED:20260321T164343Z
UID:16180-1796461200-1796479200@hamburgpa.org
SUMMARY:Hamburg Area High School Holiday Craft Show
DESCRIPTION:
URL:https://hamburgpa.org/event/hamburg-area-high-school-holiday-craft-show-2/
LOCATION:Hamburg Area High School\, 701 Windsor Street\, Hamburg\, PA\, 19526\, United States
END:VEVENT
END:VCALENDAR