BEGIN:VCALENDAR
VERSION:2.0
PRODID:-//Hamburg, PA - ECPv6.15.20//NONSGML v1.0//EN
CALSCALE:GREGORIAN
METHOD:PUBLISH
X-WR-CALNAME:Hamburg, PA
X-ORIGINAL-URL:https://hamburgpa.org
X-WR-CALDESC:Events for Hamburg, PA
REFRESH-INTERVAL;VALUE=DURATION:PT1H
X-Robots-Tag:noindex
X-PUBLISHED-TTL:PT1H
BEGIN:VTIMEZONE
TZID:America/New_York
BEGIN:DAYLIGHT
TZOFFSETFROM:-0500
TZOFFSETTO:-0400
TZNAME:EDT
DTSTART:20240310T070000
END:DAYLIGHT
BEGIN:STANDARD
TZOFFSETFROM:-0400
TZOFFSETTO:-0500
TZNAME:EST
DTSTART:20241103T060000
END:STANDARD
BEGIN:DAYLIGHT
TZOFFSETFROM:-0500
TZOFFSETTO:-0400
TZNAME:EDT
DTSTART:20250309T070000
END:DAYLIGHT
BEGIN:STANDARD
TZOFFSETFROM:-0400
TZOFFSETTO:-0500
TZNAME:EST
DTSTART:20251102T060000
END:STANDARD
BEGIN:DAYLIGHT
TZOFFSETFROM:-0500
TZOFFSETTO:-0400
TZNAME:EDT
DTSTART:20260308T070000
END:DAYLIGHT
BEGIN:STANDARD
TZOFFSETFROM:-0400
TZOFFSETTO:-0500
TZNAME:EST
DTSTART:20261101T060000
END:STANDARD
END:VTIMEZONE
BEGIN:VEVENT
DTSTART;TZID=America/New_York:20251019T140000
DTEND;TZID=America/New_York:20251019T140000
DTSTAMP:20260420T211836
CREATED:20250923T140734Z
LAST-MODIFIED:20250923T140902Z
UID:15343-1760882400-1760882400@hamburgpa.org
SUMMARY:PA German Service with English Translation
DESCRIPTION:Historical talk by Mr. David Adam\nSongs b Swatara Schalle Chorus\nRefreshments following service\n\n*Hearing devices available upon request
URL:https://hamburgpa.org/event/pa-german-service-with-english-translation/
LOCATION:St. Michael’s Church\, 529 St. Michael's Road\, Hambur\, PA\, 19526\, United States
END:VEVENT
BEGIN:VEVENT
DTSTART;TZID=America/New_York:20251017T180000
DTEND;TZID=America/New_York:20251017T200000
DTSTAMP:20260420T211836
CREATED:20251002T144903Z
LAST-MODIFIED:20251002T152756Z
UID:15405-1760724000-1760731200@hamburgpa.org
SUMMARY:Salem-Berne United Methodist Church Trunk or Treat Harvest Festival
DESCRIPTION:Free\, food\, refreshments\, fun\, crafts\, pumpkin decorating\, more fun
URL:https://hamburgpa.org/event/salem-berne-united-methodist-church-trunk-or-treat-harvest-festival/
LOCATION:Salem-Berne United Methodist Church\, 292 Salem Church Road\, Hamburg\, PA\, 19526\, United States
END:VEVENT
BEGIN:VEVENT
DTSTART;TZID=America/New_York:20251016T080000
DTEND;TZID=America/New_York:20251016T170000
DTSTAMP:20260420T211836
CREATED:20251016T193207Z
LAST-MODIFIED:20251016T193207Z
UID:15457-1760601600-1760634000@hamburgpa.org
SUMMARY:Hamburg & Kutztown Granges Spaghetti Dinner
DESCRIPTION:Spaghetti with sauce or meat sauce\, salad bar\, bread & butter\, drinks. Baked goods available for purchase.
URL:https://hamburgpa.org/event/hamburg-kutztown-granges-spaghetti-dinner/
LOCATION:Kutztown Grange Hall\, Kemp and James St\, Kutztown\, PA\, 19530\, United States
END:VEVENT
BEGIN:VEVENT
DTSTART;TZID=America/New_York:20251014T100000
DTEND;TZID=America/New_York:20251014T110000
DTSTAMP:20260420T211836
CREATED:20250922T193255Z
LAST-MODIFIED:20250922T193255Z
UID:15317-1760436000-1760439600@hamburgpa.org
SUMMARY:October Business Workshop
DESCRIPTION:for Hamburg Business Owners Leaders \n\nTuesday\, October 14\, 10:00 AM @ Hazel’s Cafe\n\nQ&A with Anthony Matz from Berks County Views. Ask all your questions about social media best practices for your business and hear from a social media leader in the county. 
URL:https://hamburgpa.org/event/october-business-workshop/
END:VEVENT
BEGIN:VEVENT
DTSTART;TZID=America/New_York:20251011T100000
DTEND;TZID=America/New_York:20251011T100000
DTSTAMP:20260420T211836
CREATED:20250923T144344Z
LAST-MODIFIED:20250923T170451Z
UID:15350-1760176800-1760176800@hamburgpa.org
SUMMARY:Community Paint Day
DESCRIPTION:  \nThe Stage is getting a fresh and new look! Come make your mark on Hamburg’s community art and celebrate the power of painting together! 
URL:https://hamburgpa.org/event/community-paint-day/
LOCATION:State Street Square\, 222 State St\, Hamburg\, PA\, 19526\, United States
END:VEVENT
BEGIN:VEVENT
DTSTART;TZID=America/New_York:20251005T140000
DTEND;TZID=America/New_York:20251005T140000
DTSTAMP:20260420T211836
CREATED:20250923T195514Z
LAST-MODIFIED:20250923T195538Z
UID:15356-1759672800-1759672800@hamburgpa.org
SUMMARY:All Aboard
DESCRIPTION:A fun concert of train and railroad songs from the Blue Mountain Heritage Chorus \n*free-will offering
URL:https://hamburgpa.org/event/all-aboard/
LOCATION:Zion’s Lutheran Church\, 354 Zion Church Rd\, Shoemakersville\, PA\, 19555\, United States
END:VEVENT
BEGIN:VEVENT
DTSTART;TZID=America/New_York:20250925T190000
DTEND;TZID=America/New_York:20250925T190000
DTSTAMP:20260420T211836
CREATED:20250923T140151Z
LAST-MODIFIED:20250923T140343Z
UID:15339-1758826800-1758826800@hamburgpa.org
SUMMARY:Poetry Workshop every Thursday
DESCRIPTION:Conversation\, coffee\, and creativity for all who dabble in the literary arts.  \n\nEvery Thursday at 7pm
URL:https://hamburgpa.org/event/poetry-workshop/
LOCATION:The Goathouse Church\, 321 Island St\, Hamburg\, PA\, 19526\, United States
END:VEVENT
END:VCALENDAR