BEGIN:VCALENDAR
VERSION:2.0
PRODID:-//Hamburg, PA - ECPv6.15.20//NONSGML v1.0//EN
CALSCALE:GREGORIAN
METHOD:PUBLISH
X-ORIGINAL-URL:https://hamburgpa.org
X-WR-CALDESC:Events for Hamburg, PA
REFRESH-INTERVAL;VALUE=DURATION:PT1H
X-Robots-Tag:noindex
X-PUBLISHED-TTL:PT1H
BEGIN:VTIMEZONE
TZID:America/New_York
BEGIN:DAYLIGHT
TZOFFSETFROM:-0500
TZOFFSETTO:-0400
TZNAME:EDT
DTSTART:20240310T070000
END:DAYLIGHT
BEGIN:STANDARD
TZOFFSETFROM:-0400
TZOFFSETTO:-0500
TZNAME:EST
DTSTART:20241103T060000
END:STANDARD
BEGIN:DAYLIGHT
TZOFFSETFROM:-0500
TZOFFSETTO:-0400
TZNAME:EDT
DTSTART:20250309T070000
END:DAYLIGHT
BEGIN:STANDARD
TZOFFSETFROM:-0400
TZOFFSETTO:-0500
TZNAME:EST
DTSTART:20251102T060000
END:STANDARD
BEGIN:DAYLIGHT
TZOFFSETFROM:-0500
TZOFFSETTO:-0400
TZNAME:EDT
DTSTART:20260308T070000
END:DAYLIGHT
BEGIN:STANDARD
TZOFFSETFROM:-0400
TZOFFSETTO:-0500
TZNAME:EST
DTSTART:20261101T060000
END:STANDARD
BEGIN:DAYLIGHT
TZOFFSETFROM:-0500
TZOFFSETTO:-0400
TZNAME:EDT
DTSTART:20270314T070000
END:DAYLIGHT
BEGIN:STANDARD
TZOFFSETFROM:-0400
TZOFFSETTO:-0500
TZNAME:EST
DTSTART:20271107T060000
END:STANDARD
END:VTIMEZONE
BEGIN:VEVENT
DTSTART;VALUE=DATE:20251209
DTEND;VALUE=DATE:20270101
DTSTAMP:20260421T060513
CREATED:20251209T211900Z
LAST-MODIFIED:20251209T213054Z
UID:15689-1765238400-1798761599@hamburgpa.org
SUMMARY:Defensive Skills Academy Courses Available
DESCRIPTION:Courses Available: \n\nAdult/ Child/ Infant CPR with AED\nFirst Aid Course\nBLS Course\nChild and Babysitting Course- CABS\nPersonal Defense Course\nSituational Awareness Course\nHouse of Worship Safety Team Training Course \n\nVisit website at www.defensiveskillsacademy.com for other courses available to you. 
URL:https://hamburgpa.org/event/defensive-skills-academy-courses-available/
LOCATION:PA
END:VEVENT
BEGIN:VEVENT
DTSTART;TZID=America/New_York:20260101T093000
DTEND;TZID=America/New_York:20260101T093000
DTSTAMP:20260421T060513
CREATED:20251222T165354Z
LAST-MODIFIED:20251222T173707Z
UID:15741-1767259800-1767259800@hamburgpa.org
SUMMARY:Historic Dreibelbis Farm New Year's Day Hike
DESCRIPTION:  \n 
URL:https://hamburgpa.org/event/historic-dreibelbis-farm-new-years-day-hike/
LOCATION:Dreibelbis Farm\, 356 Hard Hill Rd\, Hamburg\, PA\, 19526\, United States
END:VEVENT
BEGIN:VEVENT
DTSTART;TZID=America/New_York:20260103T200000
DTEND;TZID=America/New_York:20261231T220000
DTSTAMP:20260421T060513
CREATED:20251231T152909Z
LAST-MODIFIED:20251231T152909Z
UID:15790-1767470400-1798754400@hamburgpa.org
SUMMARY:Bar Bites Nights at Copperz Brewing Co
DESCRIPTION:*Every Friday and Saturday! \n\n\n\n\n\n\n\n\n\n\n\n\n\n\nStarting Saturday\, January 3rd\, join us for Bar Bites Nights every Friday & Saturday from 8–10pm! Enjoy late-night savings on your favorite shareables\, including basket apps\, our famous soft pretzel\, and loaded nachos. Perfect for post-dinner cravings\, late-night hangs\, or one more round with friends. Available when you buy any drink and dine in only—come snack\, sip\, and save!
URL:https://hamburgpa.org/event/bar-bites-nights-at-copperz-brewing-co/
LOCATION:Copperz Brewing Co\, 798 S Fourth St\, Hamburg\, PA\, 19526\, United States
END:VEVENT
BEGIN:VEVENT
DTSTART;TZID=America/New_York:20260106T183000
DTEND;TZID=America/New_York:20260106T183000
DTSTAMP:20260421T060513
CREATED:20251124T173738Z
LAST-MODIFIED:20251124T200000Z
UID:15638-1767724200-1767724200@hamburgpa.org
SUMMARY:Salem Church- Centershot
DESCRIPTION:*Tuesdays at 6:30 PM \n\n8-week program is for all levels of archery experience\, ages 10 and up. \nAll supplies and equipment are provided\nUse the life-skill of archery as a tool to grow your faith!\n\n*Spots are limited\, register today!
URL:https://hamburgpa.org/event/salem-church-centershot/
LOCATION:PA
END:VEVENT
BEGIN:VEVENT
DTSTART;TZID=America/New_York:20260106T190000
DTEND;TZID=America/New_York:20260106T210000
DTSTAMP:20260421T060513
CREATED:20251231T152343Z
LAST-MODIFIED:20251231T152416Z
UID:15787-1767726000-1767733200@hamburgpa.org
SUMMARY:Trivia Tuesday at Copperz Brewing Co
DESCRIPTION:*Check for different dates! \n\n\n\n\n\n\n\n\n\n\n\n\n\n\nPut your knowledge (and your luck) to the test this January at Copperz Brewing! 🎉 Join us for Trivia Tuesdays & a brand-new Music Bingo Night\, all starting at 7pm.\n🧠 1/6 – General Trivia\n🎶 1/13 – NEW! Music Bingo Night\n🎵 1/20 – Music Trivia \nGrab a drink\, gather your team\, and make a night of it. Reservations are available—call 484-660-3545 to save your spot! 🍻 \n\n\n\n\n\n\n\n\n\n\n\n\n\n\n 
URL:https://hamburgpa.org/event/trivia-tuesday-at-copperz-brewing-co/
LOCATION:Copperz Brewing Co\, 798 S Fourth St\, Hamburg\, PA\, 19526\, United States
END:VEVENT
BEGIN:VEVENT
DTSTART;TZID=America/New_York:20260110T130000
DTEND;TZID=America/New_York:20260110T160000
DTSTAMP:20260421T060513
CREATED:20251223T152422Z
LAST-MODIFIED:20251223T152648Z
UID:15757-1768050000-1768060800@hamburgpa.org
SUMMARY:Bob Ross Style Painting at Lucky Leprechaun
DESCRIPTION:
URL:https://hamburgpa.org/event/bob-ross-style-painting-at-lucky-leprechaun/
LOCATION:Lucky Leprechaun\, 337 State St\, Hamburg\, PA\, 19526\, United States
END:VEVENT
BEGIN:VEVENT
DTSTART;TZID=America/New_York:20260113T190000
DTEND;TZID=America/New_York:20260113T210000
DTSTAMP:20260421T060513
CREATED:20251230T141026Z
LAST-MODIFIED:20251230T141026Z
UID:15774-1768330800-1768338000@hamburgpa.org
SUMMARY:Faith Night- Let There Be Light
DESCRIPTION:
URL:https://hamburgpa.org/event/faith-night-let-there-be-light/
LOCATION:Hamburg Strand Theater\, 6 S Fourth St\, Hamburg\, PA\, 19526\, United States
END:VEVENT
BEGIN:VEVENT
DTSTART;TZID=America/New_York:20260117T120000
DTEND;TZID=America/New_York:20260117T140000
DTSTAMP:20260421T060513
CREATED:20251229T181427Z
LAST-MODIFIED:20260102T210406Z
UID:15770-1768651200-1768658400@hamburgpa.org
SUMMARY:Hamburg Area Arts Alliance Presents Art Exhibition
DESCRIPTION:
URL:https://hamburgpa.org/event/hamburg-area-arts-alliance-presents-art-exhibition/
LOCATION:Art and Craft Gallery\, 320 State Street\, Hamburg\, PA\, 19526\, United States
END:VEVENT
BEGIN:VEVENT
DTSTART;TZID=America/New_York:20260123T190000
DTEND;TZID=America/New_York:20260123T213000
DTSTAMP:20260421T060513
CREATED:20260122T183948Z
LAST-MODIFIED:20260122T183948Z
UID:15826-1769194800-1769203800@hamburgpa.org
SUMMARY:Avatar: Fire And Ash
DESCRIPTION:*Starting January 23rd \n\nRegular showing times
URL:https://hamburgpa.org/event/avatar-fire-and-ash/
LOCATION:Hamburg Strand Theater\, 6 S Fourth St\, Hamburg\, PA\, 19526\, United States
END:VEVENT
BEGIN:VEVENT
DTSTART;TZID=America/New_York:20260124T090000
DTEND;TZID=America/New_York:20260124T130000
DTSTAMP:20260421T060513
CREATED:20251216T171410Z
LAST-MODIFIED:20260121T204731Z
UID:15723-1769245200-1769259600@hamburgpa.org
SUMMARY:CANCELED    Defensive Skills Academy LLC- Adult and Infant CPR Course
DESCRIPTION:Location: (Hamburg\, PA) Address will be provided upon registration \n\nOpen to all adults\, teens\, parents\, caregivers\, and community member\nCertified CPR Trainer\n$25.00 per person (payment link will be emailed) Seat will be reserved once payment is made.\n\nWhat you will learn: \n\nRecognizing cardiac emergencies in adults and infant\nPerforming high-quality chest compressions\nDelivering effective rescue breaths\nUsing an Automated External Defibrillator (AED)\nChoking relief for adults and infants\nResponding to common emergencies with confidence\n\nHow to Register \n\nTo reserve your spot in the Adult and Infant CPR course\, please visit our website at www.defensiveskillsacademy.com\, click the button below or email us at info@defensiveskillsacademy.com.\n\nSpace is limited and will be filled on a first-come\, first-served basis. Early registration is encouraged. \n 
URL:https://hamburgpa.org/event/defensive-skills-academy-llc-adult-and-infant-cpr-course/
LOCATION:PA
END:VEVENT
BEGIN:VEVENT
DTSTART;TZID=America/New_York:20260124T110000
DTEND;TZID=America/New_York:20260124T180000
DTSTAMP:20260421T060513
CREATED:20251215T145127Z
LAST-MODIFIED:20251218T161833Z
UID:15695-1769252400-1769277600@hamburgpa.org
SUMMARY:Remembrance Event
DESCRIPTION:What to Expect: \n\nDisplays of memorabilia\nArt\nCommunity gathering\nLight refreshments\nMemory board\nDiscounted merch\nNotable artist trivia every 30 mins
URL:https://hamburgpa.org/event/remembrance-event/
LOCATION:Everlong Records\, 805 State Street\, Hamburg\, PA\, 19526\, United States
END:VEVENT
BEGIN:VEVENT
DTSTART;VALUE=DATE:20260131
DTEND;VALUE=DATE:20260201
DTSTAMP:20260421T060513
CREATED:20251231T153412Z
LAST-MODIFIED:20251231T154006Z
UID:15792-1769817600-1769903999@hamburgpa.org
SUMMARY:Firkin Day at Copperz Brewing Co
DESCRIPTION:Firkin Day – Saturday\, January 31st 🍺\nWe’re tapping a firkin of a special small-batch beer for one day only! Join us on Saturday\, 1/31 to enjoy this limited-release pour while it lasts. Once it’s gone\, it’s gone—so come early\, grab a pint\, and celebrate Firkin Day with us at Copperz Brewing. Cheers! 🍻
URL:https://hamburgpa.org/event/firkin-day-at-copperz-brewing-co/
LOCATION:Copperz Brewing Co\, 798 S Fourth St\, Hamburg\, PA\, 19526\, United States
END:VEVENT
END:VCALENDAR